BEGIN:VCALENDAR
VERSION:2.0
PRODID:-//ChamberMaster//Event Calendar 2.0//EN
METHOD:PUBLISH
X-PUBLISHED-TTL:P3D
REFRESH-INTERVAL:P3D
CALSCALE:GREGORIAN
BEGIN:VEVENT
DTSTART:20211117T223000Z
DTEND:20211118T013000Z
X-MICROSOFT-CDO-ALLDAYEVENT:FALSE
SUMMARY:2021 Annual Awards Dinner
DESCRIPTION:Please join us as we honor those who have made significant contributions to enhance our quality of life and make our community a better place to live.  The Annual Awards Dinner is an evening for all area businesses to come together and celebrate their successes and community contributions.\n\n\n\nThe event includes cocktails\, networking\, silent auction\, dinner\, and awards.  It is a great networking opportunity!
X-ALT-DESC;FMTTYPE=text/html:<br />\n<br />\n<span style="color:#000000\;"><span style="font-family:arial\;"><span style="font-size:14px\;">Please join us as we honor those who have made significant contributions to enhance our quality of life and make our community a better place to live.&nbsp\; The Annual Awards Dinner is an evening for all area businesses to come together and celebrate their successes and community contributions.<br />\n<br />\nThe event includes cocktails\, networking\, silent auction\, dinner\, and awards.&nbsp\; It is a great networking opportunity!</span></span></span><br />\n<br />\n<br />\n<br />\n&nbsp\;
LOCATION:Oasis Conference Center
UID:e.260.6856
SEQUENCE:3
DTSTAMP:20260423T141137Z
URL:https://business.lovelandchamber.org/events/details/2021-annual-awards-dinner-6856
END:VEVENT

END:VCALENDAR
