BEGIN:VCALENDAR
VERSION:2.0
PRODID:-//ChamberMaster//Event Calendar 2.0//EN
METHOD:PUBLISH
X-PUBLISHED-TTL:P3D
REFRESH-INTERVAL:P3D
CALSCALE:GREGORIAN
BEGIN:VEVENT
DTSTART:20221117T223000Z
DTEND:20221118T013000Z
X-MICROSOFT-CDO-ALLDAYEVENT:FALSE
SUMMARY:2022 Annual Awards Dinner
DESCRIPTION:UPDATE: Registration for Annual Awards is now closed. Please contact us at meredith@lmrchamberalliance.org if you have any questions about the event.\n\n\n\nPlease join us as we honor those who have made significant contributions to enhance our quality of life and make our community a better place to live.  The Annual Awards Dinner is an evening for all area businesses to come together and celebrate their successes and community contributions.\n\n\n\nJoins us this year for our "Black & White Edition"--wear black and white to this event for a fun twist!\n\n\n\nThe event includes cocktails\, networking\, silent auction\, dinner\, and awards.  It is a great networking opportunity!
X-ALT-DESC;FMTTYPE=text/html:<br />\n<br />\n<span style="font-size:14px\;"><strong><span style="color:#B22222\;"><em>UPDATE: Registration for Annual Awards is now closed. Please contact us at meredith@lmrchamberalliance.org if you have any questions about the event.</em></span></strong></span><br />\n<br />\n<span style="font-size:16px\;"><span style="color:#000000\;"><span style="font-family:arial\;">Please join us as we honor those who have made significant contributions to enhance our quality of life and make our community a better place to live.&nbsp\; The Annual Awards Dinner is an evening for all area businesses to come together and celebrate their successes and community contributions.<br />\n<br />\nJoins us this year for our &quot\;Black &amp\; White Edition&quot\;--wear black and white to this event for a fun twist!<br />\n<br />\nThe event includes cocktails\, networking\, silent auction\, dinner\, and awards.&nbsp\; It is a great networking opportunity!</span></span></span><br />\n<br />\n<br />\n<br />\n&nbsp\;
LOCATION:Oasis Conference Center
UID:e.260.6890
SEQUENCE:3
DTSTAMP:20260422T232603Z
URL:https://business.lovelandchamber.org/events/details/2022-annual-awards-dinner-6890
END:VEVENT

END:VCALENDAR
