BEGIN:VCALENDAR
VERSION:2.0
PRODID:-//ChamberMaster//Event Calendar 2.0//EN
METHOD:PUBLISH
X-PUBLISHED-TTL:P3D
REFRESH-INTERVAL:P3D
CALSCALE:GREGORIAN
BEGIN:VEVENT
DTSTART:20211229T220000Z
DTEND:20211230T000000Z
X-MICROSOFT-CDO-ALLDAYEVENT:FALSE
SUMMARY:Anytime Fitness Member Holiday Party
DESCRIPTION:Members and guests can earn raffle tickets to put towards prizes. We are also collecting gifts and food for a local family. We are asking local businesses if they would like to donate gift cards\, services or set up vendor booth for our party. In return\, we will mention sponsors throughout the month of December within the club and on our social media pages. All donations are appreciated.
X-ALT-DESC;FMTTYPE=text/html:<span style="caret-color: rgb(0\, 0\, 0)\; color: rgb(0\, 0\, 0)\; font-family: Arial\, Helvetica\, sans-serif\; font-size: medium\; font-style: normal\; font-variant-caps: normal\; font-weight: normal\; letter-spacing: normal\; orphans: auto\; text-align: left\; text-indent: 0px\; text-transform: none\; white-space: normal\; widows: auto\; word-spacing: 0px\; -webkit-text-size-adjust: auto\; -webkit-text-stroke-width: 0px\; background-color: rgb(255\, 255\, 255)\; text-decoration: none\; display: inline !important\; float: none\;">Members and guests can earn raffle tickets to put towards prizes. We are also collecting gifts and food for a local family. We are asking local businesses if they would like to donate gift cards\, services or set up vendor booth for our party. In return\, we will mention sponsors throughout the month of December within the club and on our social media pages. All donations are appreciated.</span>
LOCATION:515 Loveland-Madeira Road Loveland\, OH 45140
UID:e.260.6861
SEQUENCE:3
DTSTAMP:20260423T125634Z
URL:https://business.lovelandchamber.org/events/details/anytime-fitness-member-holiday-party-6861
END:VEVENT

END:VCALENDAR
