BEGIN:VCALENDAR
VERSION:2.0
PRODID:-//ChamberMaster//Event Calendar 2.0//EN
METHOD:PUBLISH
X-PUBLISHED-TTL:P3D
REFRESH-INTERVAL:P3D
CALSCALE:GREGORIAN
BEGIN:VEVENT
DTSTART:20210325T200000Z
DTEND:20210325T230000Z
X-MICROSOFT-CDO-ALLDAYEVENT:FALSE
SUMMARY:Business Expo 2021
DESCRIPTION:Loveland Business Expo\n\nLoveland\, Miami Twp\, Symmes Twp Under One Roof\n\n\nJoin us for our Business Expo!  This is a fun event for the community and is the perfect way to see a variety of Loveland area businesses under one roof! \n\n\n\nThis expo is a great way to showcase your business\, grow your network and gain new customers. Joins  us!\n\n\n	Network with a variety of local businesses and entrepreneurs\n	Establish new & valuable contacts\n	Interact with the movers and shakers of local business and industry\n	Leave the expo with a wide array of qualified and targeted sales leads\n	Have some fun!\n\nOpen to business-business and business-consumer. Anyone can attend!\n\n\n\nMasks required at this event\n\n-----\n\n\n\nVendor Info:\n\n***Vendor booth rental is currently closed. Please contact us about booth rental for 2022 next spring!***\n\n\n\nBooth Rental includes a 6-ft table and 2 chairs. Booths will be spread out to allow for social distancing. Electric is provided on case by case basis\, and not available for all booths. (Contact the chamber for details)\n\n\n\n**Please note all Premier Booths are sold out**
X-ALT-DESC;FMTTYPE=text/html:<div style="text-align: center\;"><br />\n<br />\n<span style="font-size:18px\;"><em><strong>Loveland Business Expo</strong></em><br />\n<strong>Loveland\, Miami Twp\, Symmes Twp Under One Roof</strong></span></div>\n<br />\n<span style="font-size:16px\;">Join us for our Business Expo!&nbsp\; This is a fun event for the community and is the perfect way to see a variety of Loveland area businesses under one roof!&nbsp\;<br />\n<br />\nThis expo is a great way to showcase your business\, grow your network and gain new customers. Joins&nbsp\; us!</span>\n\n<ul>\n	<li><span style="font-size:16px\;"><span class="x_JsGRdQ">Network with a variety of local businesses and entrepreneurs</span></span></li>\n	<li><span style="font-size:16px\;"><span class="x_JsGRdQ">Establish new &amp\; valuable contacts</span></span></li>\n	<li><span style="font-size:16px\;"><span class="x_JsGRdQ">Interact with the movers and shakers of local business and industry</span></span></li>\n	<li><span style="font-size:16px\;"><span class="x_JsGRdQ">Leave the expo with a wide array of qualified and targeted sales leads</span></span></li>\n	<li><span style="font-size:16px\;"><span class="x_JsGRdQ">Have some fun!</span></span></li>\n</ul>\n<span style="font-size:16px\;">Open to business-business and business-consumer. Anyone can attend!<br />\n<br />\n<em>Masks required at this event</em><br />\n-----<br />\n<br />\n<em>Vendor Info:<br />\n***Vendor booth rental is currently closed. Please contact us about booth rental for 2022 next spring!***<br />\n<br />\nBooth Rental includes a 6-ft table and 2 chairs. Booths will be spread out to allow for social distancing. Electric is provided on case by case basis\, and not available for all booths. (Contact the chamber for details)<br />\n<br />\n**Please note all Premier Booths are sold out**&nbsp\; </em></span><br />\n<br />\n&nbsp\;\n<div style="text-align: center\;">&nbsp\;</div>\n
LOCATION:The Landing Event Center 119 Karl Brown Way Loveland\, OH 45140
UID:e.260.6833
SEQUENCE:3
DTSTAMP:20260423T235520Z
URL:https://business.lovelandchamber.org/events/details/business-expo-2021-6833
END:VEVENT

END:VCALENDAR
