BEGIN:VCALENDAR
VERSION:2.0
PRODID:-//ChamberMaster//Event Calendar 2.0//EN
METHOD:PUBLISH
X-PUBLISHED-TTL:P3D
REFRESH-INTERVAL:P3D
CALSCALE:GREGORIAN
BEGIN:VEVENT
DTSTART:20220310T210000Z
DTEND:20220311T000000Z
X-MICROSOFT-CDO-ALLDAYEVENT:FALSE
SUMMARY:Business Expo 2022
DESCRIPTION:***Booth registration is currently closed due to capacity***\n\n \n\n\nJoin us for our Business Expo!  This is a fun event for the community and is the perfect way to see a variety of area businesses under one roof! \n\n\n\nThis expo is a great way to showcase your business\, grow your network and gain new customers. Join  us!\n\n\n	Network with a variety of local businesses and entrepreneurs\n	Establish new & valuable contacts\n	Interact with the movers and shakers of local business and industry\n	Leave the expo with a wide array of qualified and targeted sales leads\n	Have some fun!\n\nOpen to business-business and business-consumer. Anyone can attend!\n\n-----\n\n\n\nVendor Info:\n\nBooth Rental includes a table and 2 chairs. Electric is provided on case by case basis\, and may not available for all booths. (Contact the chamber for details)
X-ALT-DESC;FMTTYPE=text/html:<div style="text-align: center\;"><br />\n<br />\n<em><span style="font-size:16px\;">***Booth registration is currently closed due to capacity***</span></em><br />\n&nbsp\;</div>\n<br />\n<span style="font-size:16px\;">Join us for our Business Expo!&nbsp\; This is a fun event for the community and is the perfect way to see a variety of area businesses under one roof!&nbsp\;<br />\n<br />\nThis expo is a great way to showcase your business\, grow your network and gain new customers. Join&nbsp\; us!</span>\n\n<ul>\n	<li><span style="font-size:16px\;"><span class="x_JsGRdQ">Network with a variety of local businesses and entrepreneurs</span></span></li>\n	<li><span style="font-size:16px\;"><span class="x_JsGRdQ">Establish new &amp\; valuable contacts</span></span></li>\n	<li><span style="font-size:16px\;"><span class="x_JsGRdQ">Interact with the movers and shakers of local business and industry</span></span></li>\n	<li><span style="font-size:16px\;"><span class="x_JsGRdQ">Leave the expo with a wide array of qualified and targeted sales leads</span></span></li>\n	<li><span style="font-size:16px\;"><span class="x_JsGRdQ">Have some fun!</span></span></li>\n</ul>\n<span style="font-size:16px\;">Open to business-business and business-consumer. Anyone can attend!<br />\n-----<br />\n<br />\n<em>Vendor Info:<br />\nBooth Rental includes a table and 2 chairs. Electric is provided on case by case basis\, and may not available for all booths. (Contact the chamber for details)</em></span><br />\n<br />\n<br />\n&nbsp\;\n<div style="text-align: center\;">&nbsp\;</div>\n
LOCATION:The Little Miami Brewing Event Center 310 Mill Street Milford\, OH 45150
UID:e.260.6865
SEQUENCE:3
DTSTAMP:20260423T090505Z
URL:https://business.lovelandchamber.org/events/details/business-expo-2022-6865
END:VEVENT

END:VCALENDAR
