BEGIN:VCALENDAR
VERSION:2.0
PRODID:-//ChamberMaster//Event Calendar 2.0//EN
METHOD:PUBLISH
X-PUBLISHED-TTL:P3D
REFRESH-INTERVAL:P3D
CALSCALE:GREGORIAN
BEGIN:VEVENT
DTSTART:20220804T153000Z
DTEND:20220804T173000Z
X-MICROSOFT-CDO-ALLDAYEVENT:FALSE
SUMMARY:Chamber Chew: Promote your Business with a Social Media Ad Strategy
DESCRIPTION:Join us for our "Chamber Chew" Lunch and Learn and learn how to use Social Media and other online tools to market and promote your business!\n\n\n\nGuest Speaker: Brien Gearin\, Ricochet Digital Marketing\, LLC\n\n\n\nWe will discuss the two things every local business should implement: Google Business Profile and Facebook Ads. This will be an interactive\, open discussion on the importance and pace both of these marketing tools have in any business. Wondering if either of these has a place in your business? Maybe you have technical questions about how they are operating for you currently? Join us and bring those questions and get some answers!
X-ALT-DESC;FMTTYPE=text/html:<br />\n<br />\nJoin us for our &quot\;Chamber Chew&quot\; Lunch and Learn and learn how to use Social Media and other online tools to market and promote your business!<br />\n<br />\n<em>Guest Speaker: Brien Gearin\, Ricochet Digital Marketing\, LLC</em><br />\n<br />\nWe will discuss the two things every local business should implement: Google Business Profile and Facebook Ads. This will be an interactive\, open discussion on the importance and pace both of these marketing tools have in any business. Wondering if either of these has a place in your business? Maybe you have technical questions about how they are operating for you currently? Join us and bring those questions and get some answers!
LOCATION:Bishop's Quarter
UID:e.260.6878
SEQUENCE:3
DTSTAMP:20260423T024956Z
URL:https://business.lovelandchamber.org/events/details/chamber-chew-promote-your-business-with-a-social-media-ad-strategy-6878
END:VEVENT

END:VCALENDAR
