BEGIN:VCALENDAR
VERSION:2.0
PRODID:-//ChamberMaster//Event Calendar 2.0//EN
METHOD:PUBLISH
X-PUBLISHED-TTL:P3D
REFRESH-INTERVAL:P3D
CALSCALE:GREGORIAN
BEGIN:VEVENT
DTSTART:20211218T210000Z
DTEND:20211219T010000Z
X-MICROSOFT-CDO-ALLDAYEVENT:FALSE
SUMMARY:Christmas in Loveland 2021
DESCRIPTION:Be swept back in time while visiting Old Historic Loveland.  Everything from Jolly Ole' St. Nick and Mrs. Claus at the North Pole\, to a live Nativity scene\, to a Winter Wonderland! \n\n \n\nThis is the time of year that Loveland Businesses give back to the community.  This complimentary event is Loveland's way of saying "Thank you for your Business!!" \n\n\n\nThis year we will have Covid-19 Safety precautions in place\; events will be more spread out across Downtown\, masks are encouraged\, and 6-ft social distancing is required. \nPlease note some ways to keep Covid-safe during this event: Masks are required at all times\, please keep moving and keep distance from others and avoid crowds. Most events will take place outside. Carriage rides are available this year again (yay!) but are limited to one family at a time. Santa will be at City Hall from 4:30 until 7pm on Saturday night. Watch for his arrival on a fire truck on Saturday! Please be mindful of others as you attend this event.\n\nAll businesses are required to observe COVID capacity and safety requirements. They have some fun activities and specials planned for you!\n\nWhile this year will look different\, we are excited to celebrate the holidays and bring some cheer to your family!\n\n \n\nPlease note that some businesses will be featuring their activities at certain times--see the map we'll be posting for details.\n\nOfficial hours of the event are:\n\nFriday/Saturday 4-8pm\n\nSunday 11-1pm\n\nSee you this weekend!\n\n\nVENDORS and ATTENDEES: Please note this is an OUTDOOR event.
X-ALT-DESC;FMTTYPE=text/html:<br />\n<span style="font-size:14px\;"><span style="font-family: arial\;">Be swept back in time while visiting Old Historic Loveland.&nbsp\; Everything from Jolly Ole&#39\; St. Nick and Mrs. Claus at the North Pole\, to a live Nativity scene\, to a Winter Wonderland!&nbsp\;<br />\n&nbsp\;<br />\nThis is the time of year that Loveland Businesses give back to the community.&nbsp\; This complimentary event is Loveland&#39\;s way of saying &quot\;Thank you for your Business!!&quot\;&nbsp\;<br />\n<br />\nThis year we will have Covid-19 Safety precautions in place\; events will be more spread out across Downtown\, masks are encouraged\, and 6-ft social distancing is required. </span></span>\n<div dir="auto" style="text-align: start\;"><span style="font-size:14px\;">Please note some ways to keep Covid-safe during this event: Masks are required at all times\, please keep moving and keep distance from others and avoid crowds. Most events will take place outside. Carriage rides are available this year again (yay!) but are limited to one family at a time. Santa will be at City Hall from 4:30 until 7pm on Saturday night. Watch for his arrival on a fire truck on Saturday! Please be mindful of others as you attend this event.</span></div>\n\n<div dir="auto" style="text-align: start\;"><span style="font-size:14px\;">All businesses are required to observe COVID capacity and safety requirements. They have some fun activities and specials planned for you!</span></div>\n\n<div dir="auto" style="text-align: start\;"><span style="font-size:14px\;">While this year will look different\, we are excited to celebrate the holidays and bring some cheer to your family!</span><br />\n&nbsp\;</div>\n\n<div dir="auto" style="text-align: start\;"><span style="font-size:14px\;">Please note that some businesses will be featuring their activities at certain times--see the map we&#39\;ll be posting for details.</span></div>\n\n<div dir="auto" style="text-align: start\;"><span style="font-size:14px\;">Official hours of the event are:</span></div>\n\n<div dir="auto" style="text-align: start\;"><span style="font-size:14px\;">Friday/Saturday 4-8pm</span></div>\n\n<div dir="auto" style="text-align: start\;"><span style="font-size:14px\;">Sunday 11-1pm</span></div>\n\n<div dir="auto" style="text-align: start\;"><span style="font-size:14px\;">See you this weekend!</span></div>\n<br />\n<span style="font-size:14px\;"><span style="font-family: arial\;"><em>VENDORS and ATTENDEES: Please note this is an OUTDOOR event.</em></span></span><br />\n<br />\n<br />\n<br />\n&nbsp\;\n<div style="text-align: center\;"><br />\n&nbsp\;</div>\n
LOCATION:Historic Downtown Loveland
UID:e.260.6859
SEQUENCE:3
DTSTAMP:20260423T130031Z
URL:https://business.lovelandchamber.org/events/details/christmas-in-loveland-2021-6859
END:VEVENT

END:VCALENDAR
