BEGIN:VCALENDAR
VERSION:2.0
PRODID:-//ChamberMaster//Event Calendar 2.0//EN
METHOD:PUBLISH
X-PUBLISHED-TTL:P3D
REFRESH-INTERVAL:P3D
CALSCALE:GREGORIAN
BEGIN:VEVENT
DTSTART:20220416T140000Z
DTEND:20220416T210000Z
X-MICROSOFT-CDO-ALLDAYEVENT:FALSE
SUMMARY:Easter Weekend Food Drive
DESCRIPTION:Drop off your food donation under the clock tower to the Chamber and Loveland Magazine.
X-ALT-DESC;FMTTYPE=text/html:Drop off your food donation under the clock tower to the Chamber and Loveland Magazine.
LOCATION:Clock Tower in Downtown Historic Loveland\, Ohio *Pull in "carry out\," parking spots and we will pick up your donations.
UID:e.260.6875
SEQUENCE:3
DTSTAMP:20260423T073626Z
URL:https://business.lovelandchamber.org/events/details/easter-weekend-food-drive-6875
END:VEVENT

END:VCALENDAR
