BEGIN:VCALENDAR
VERSION:2.0
PRODID:-//ChamberMaster//Event Calendar 2.0//EN
METHOD:PUBLISH
X-PUBLISHED-TTL:P3D
REFRESH-INTERVAL:P3D
CALSCALE:GREGORIAN
BEGIN:VEVENT
DTSTART:20220416T140000Z
DTEND:20220416T153000Z
X-MICROSOFT-CDO-ALLDAYEVENT:FALSE
SUMMARY:Eggstreme Run Hunt
DESCRIPTION:Family fun run...collect colorful eggs in area businesses and get the clue to the golden egg to enter for prizes
X-ALT-DESC;FMTTYPE=text/html:Family fun run...collect colorful eggs in area businesses and get the clue to the golden egg to enter for prizes
LOCATION:Fleet Feet-Loveland\, Ohio (Jack Rabbit)
UID:e.260.6874
SEQUENCE:3
DTSTAMP:20260423T073250Z
URL:https://business.lovelandchamber.org/events/details/eggstreme-run-hunt-6874
END:VEVENT

END:VCALENDAR
