BEGIN:VCALENDAR
VERSION:2.0
PRODID:-//ChamberMaster//Event Calendar 2.0//EN
METHOD:PUBLISH
X-PUBLISHED-TTL:P3D
REFRESH-INTERVAL:P3D
CALSCALE:GREGORIAN
BEGIN:VEVENT
DTSTART:20200214T230000Z
DTEND:20200215T043000Z
X-MICROSOFT-CDO-ALLDAYEVENT:FALSE
SUMMARY:Experience LOVE in Loveland - Progressive Valentine's Dinner 2020
DESCRIPTION:Only Tano's package is currently available.\n\nRegistration closes on 2/12 at 9PM!\n\n\n\nA progressive night out in Historic Downtown Loveland beginning at 6pm.  Treat your special someone to a unique experience in the land of love.  Two packages to choose from.  One LOVE to celebrate - YOURS.\n\n\n\n2020 Plans:\n\n\n\n**Please note pricing is for each COUPLE. Please register only 1 person and put your spouse/partner's name in the "Company Name" section of the registration. \n\n\n\nSweetheart Package ($170/Couple)\n\n	Renew your vows at Loveland City Hall\, Officiated by Mayor Kathy Bailey\n	Drinks\, Apps and Pottery\, Whistle Stop Clayworks\n	Dinner at The Works in the train car (Dinner includes soup or salad\, pasta and wine)\n	Dessert and bourbon beverage at Bishop's Quarter\n\n Soulmate Package ($250/Couple)\n\n\n	Renew your vows at Loveland City Hall\, Officiated by Mayor Kathy Bailey\n	Drinks\, Apps and Pottery\, Whistle Stop Clayworks\n	Dinner at Tano Bistro (Dinner includes soup or salad\, choice of entree and bottle of wine)\n	Dessert and bourbon beverage at Bishop's Quarter\n\n\nOur Gift to You (included in both packages):\n\n\n	Chocolates from Loveland Sweet Shoppe\n	Sterling Forever Entwined pendant from Welling Jewelers\n	Triple Chocolate Caramel Apple from Trailside Provisions\n	Ornament and gift card from Haven Grey\n	Sweet Potato Chips from Hometown Cafe\n	Gift Certificate from Alley Boutique\n	Photos by Loveland Creative Solutions\n	Heart Ornament from Whistle Stop Clayworks\n	2 Bundlets and BOGO coupon from Nothing Bundt Cakes\n	Heart Necklace from Lemons and Limes Boutique\n	Loveland Dried Flowers (by Botanica) and Gift Card from Bond Furniture
X-ALT-DESC;FMTTYPE=text/html:<span style="font-size:14px\;"><strong><span style="font-size:16px\;"><u>Only Tano&#39\;s package is currently available.<br />\nRegistration closes on 2/12 at 9PM!</u></span></strong><br />\n<br />\nA progressive night out in Historic Downtown Loveland beginning at 6pm.&nbsp\; Treat your special someone to a unique experience in the land of love.&nbsp\; Two packages to choose from.&nbsp\; One LOVE to celebrate - YOURS.<br />\n<br />\n<em>2020 Plans:<br />\n<br />\n<strong>**Please note pricing is for each COUPLE. Please register only 1 person and put your spouse/partner&#39\;s name in the &quot\;Company Name&quot\; section of the registration. </strong><br />\n<br />\n<span style="font-family:arial\;">Sweetheart Package ($170/Couple)</span></em></span>\n<ul>\n	<li class="_04xlpA direction-ltr align-center para-style-body" style="line-height: 1.4\; font-family: &quot\;YACgES_-lms 0&quot\;\, &quot\;_fb_&quot\;\, &quot\;auto&quot\;\; font-size: 14.4961px\; text-transform: none\; color: rgb(0\, 0\, 0)\;"><span style="font-size:14px\;"><span style="font-family:arial\;"><span style="color: rgb(0\, 0\, 0)\; text-decoration: none\;">Renew your vows at Loveland City Hall\, Officiated by Mayor Kathy Bailey</span></span></span></li>\n	<li class="_04xlpA direction-ltr align-center para-style-body" style="line-height: 1.4\; font-family: &quot\;YACgES_-lms 0&quot\;\, &quot\;_fb_&quot\;\, &quot\;auto&quot\;\; font-size: 14.4961px\; text-transform: none\; color: rgb(0\, 0\, 0)\;"><span style="font-size:14px\;"><span style="font-family:arial\;"><span style="color: rgb(0\, 0\, 0)\; text-decoration: none\;">Drinks\, Apps and Pottery\, Whistle Stop Clayworks</span></span></span></li>\n	<li class="_04xlpA direction-ltr align-center para-style-body" style="line-height: 1.4\; font-family: &quot\;YACgES_-lms 0&quot\;\, &quot\;_fb_&quot\;\, &quot\;auto&quot\;\; font-size: 14.4961px\; text-transform: none\; color: rgb(0\, 0\, 0)\;"><span style="font-size:14px\;"><span style="font-family:arial\;"><span style="color: rgb(0\, 0\, 0)\; text-decoration: none\;">Dinner at The Works in the train car</span><em style="color: rgb(0\, 0\, 0)\; text-decoration: none\;"> (Dinner includes soup or salad\, pasta and wine</em>)</span></span></li>\n	<li class="_04xlpA direction-ltr align-center para-style-body" style="line-height: 1.4\; font-family: &quot\;YACgES_-lms 0&quot\;\, &quot\;_fb_&quot\;\, &quot\;auto&quot\;\; font-size: 14.4961px\; text-transform: none\; color: rgb(0\, 0\, 0)\;"><span style="font-size:14px\;"><span style="font-family:arial\;"><span style="color: rgb(0\, 0\, 0)\; text-decoration: none\;">Dessert and bourbon beverage at Bishop&#39\;s Quarter</span></span></span></li>\n</ul>\n<span style="font-size:14px\;"> <span style="font-family:arial\;">Soulmate Package ($250/Couple)</span></span>\n\n<ul>\n	<li class="_04xlpA direction-ltr align-center para-style-body" style="line-height: 1.4\; font-family: &quot\;YACgES_-lms 0&quot\;\, &quot\;_fb_&quot\;\, &quot\;auto&quot\;\; font-size: 14.4961px\; text-transform: none\; color: rgb(0\, 0\, 0)\;"><span style="font-size:14px\;"><span style="font-family:arial\;"><span style="color: rgb(0\, 0\, 0)\; text-decoration: none\;">Renew your vows at Loveland City Hall\, Officiated by Mayor Kathy Bailey</span></span></span></li>\n	<li class="_04xlpA direction-ltr align-center para-style-body" style="line-height: 1.4\; font-family: &quot\;YACgES_-lms 0&quot\;\, &quot\;_fb_&quot\;\, &quot\;auto&quot\;\; font-size: 14.4961px\; text-transform: none\; color: rgb(0\, 0\, 0)\;"><span style="font-size:14px\;"><span style="font-family:arial\;"><span style="color: rgb(0\, 0\, 0)\; text-decoration: none\;">Drinks\, Apps and Pottery\, Whistle Stop Clayworks</span></span></span></li>\n	<li class="_04xlpA direction-ltr align-center para-style-body" style="line-height: 1.4\; font-family: &quot\;YACgES_-lms 0&quot\;\, &quot\;_fb_&quot\;\, &quot\;auto&quot\;\; font-size: 14.4961px\; text-transform: none\; color: rgb(0\, 0\, 0)\;"><span style="font-size:14px\;"><span style="font-family:arial\;"><span style="color: rgb(0\, 0\, 0)\; text-decoration: none\;">Dinner at Tano Bistro</span><em style="color: rgb(0\, 0\, 0)\; text-decoration: none\;"> (Dinner includes soup or salad\, choice of entree and bottle of wine)</em></span></span></li>\n	<li><span style="font-size:14px\;"><span style="font-family:arial\;"><span style="color: rgb(0\, 0\, 0)\; text-decoration: none\;">Dessert and bourbon beverage at Bishop&#39\;s Quarter</span></span></span></li>\n</ul>\n\n<p class="_04xlpA direction-ltr align-center para-style-body" style="line-height: 1.4\; font-family: &quot\;YALBs1aLP9I 0&quot\;\, &quot\;_fb_&quot\;\, &quot\;auto&quot\;\; font-size: 18.3624px\; text-transform: none\; color: rgb(0\, 0\, 0)\;"><span style="font-size:14px\;"><span style="font-family:arial\;"><strong style="color: rgb(0\, 0\, 0)\; text-decoration: none\;">Our Gift to You</strong><em style="color: rgb(0\, 0\, 0)\; text-decoration: none\;"> (included in both packages):</em></span></span></p>\n\n<ul>\n	<li class="_04xlpA direction-ltr align-center para-style-body" style="line-height: 1.4\; font-family: &quot\;YACgES_-lms 0&quot\;\, &quot\;_fb_&quot\;\, &quot\;auto&quot\;\; font-size: 15.7392px\; text-transform: none\; color: rgb(0\, 0\, 0)\;"><span style="font-size:14px\;"><span style="font-family:arial\;"><span style="color: rgb(0\, 0\, 0)\; text-decoration: none\;">Chocolates from Loveland Sweet Shoppe</span></span></span></li>\n	<li class="_04xlpA direction-ltr align-center para-style-body" style="line-height: 1.4\; font-family: &quot\;YACgES_-lms 0&quot\;\, &quot\;_fb_&quot\;\, &quot\;auto&quot\;\; font-size: 15.7392px\; text-transform: none\; color: rgb(0\, 0\, 0)\;"><span style="font-size:14px\;"><span style="font-family:arial\;"><span style="color: rgb(0\, 0\, 0)\; text-decoration: none\;">Sterling Forever Entwined pendant from Welling Jewelers</span></span></span></li>\n	<li class="_04xlpA direction-ltr align-center para-style-body" style="line-height: 1.4\; font-family: &quot\;YACgES_-lms 0&quot\;\, &quot\;_fb_&quot\;\, &quot\;auto&quot\;\; font-size: 15.7392px\; text-transform: none\; color: rgb(0\, 0\, 0)\;"><span style="font-size:14px\;"><span style="font-family:arial\;"><span style="color: rgb(0\, 0\, 0)\; text-decoration: none\;">Triple Chocolate Caramel Apple from Trailside Provisions</span></span></span></li>\n	<li class="_04xlpA direction-ltr align-center para-style-body" style="line-height: 1.4\; font-family: &quot\;YACgES_-lms 0&quot\;\, &quot\;_fb_&quot\;\, &quot\;auto&quot\;\; font-size: 15.7392px\; text-transform: none\; color: rgb(0\, 0\, 0)\;"><span style="font-size:14px\;"><span style="font-family:arial\;"><span style="color: rgb(0\, 0\, 0)\; text-decoration: none\;">Ornament and gift card from Haven Grey</span></span></span></li>\n	<li class="_04xlpA direction-ltr align-center para-style-body" style="line-height: 1.4\; font-family: &quot\;YACgES_-lms 0&quot\;\, &quot\;_fb_&quot\;\, &quot\;auto&quot\;\; font-size: 15.7392px\; text-transform: none\; color: rgb(0\, 0\, 0)\;"><span style="font-size:14px\;"><span style="font-family:arial\;"><span style="color: rgb(0\, 0\, 0)\; text-decoration: none\;">Sweet Potato Chips from Hometown Cafe</span></span></span></li>\n	<li class="_04xlpA direction-ltr align-center para-style-body" style="line-height: 1.4\; font-family: &quot\;YACgES_-lms 0&quot\;\, &quot\;_fb_&quot\;\, &quot\;auto&quot\;\; font-size: 15.7392px\; text-transform: none\; color: rgb(0\, 0\, 0)\;"><span style="font-size:14px\;"><span style="font-family:arial\;"><span style="color: rgb(0\, 0\, 0)\; text-decoration: none\;">Gift Certificate from Alley Boutique</span></span></span></li>\n	<li class="_04xlpA direction-ltr align-center para-style-body" style="line-height: 1.4\; font-family: &quot\;YACgES_-lms 0&quot\;\, &quot\;_fb_&quot\;\, &quot\;auto&quot\;\; font-size: 15.7392px\; text-transform: none\; color: rgb(0\, 0\, 0)\;"><span style="font-size:14px\;"><span style="font-family:arial\;"><span style="color: rgb(0\, 0\, 0)\; text-decoration: none\;">Photos by Loveland Creative Solutions</span></span></span></li>\n	<li class="_04xlpA direction-ltr align-center para-style-body" style="line-height: 1.4\; font-family: &quot\;YACgES_-lms 0&quot\;\, &quot\;_fb_&quot\;\, &quot\;auto&quot\;\; font-size: 15.7392px\; text-transform: none\; color: rgb(0\, 0\, 0)\;"><span style="font-size:14px\;"><span style="font-family:arial\;"><span style="color: rgb(0\, 0\, 0)\; text-decoration: none\;">Heart Ornament from Whistle Stop Clayworks</span></span></span></li>\n	<li class="_04xlpA direction-ltr align-center para-style-body" style="line-height: 1.4\; font-family: &quot\;YACgES_-lms 0&quot\;\, &quot\;_fb_&quot\;\, &quot\;auto&quot\;\; font-size: 15.7392px\; text-transform: none\; color: rgb(0\, 0\, 0)\;"><span style="font-size:14px\;"><span style="font-family:arial\;"><span style="color: rgb(0\, 0\, 0)\; text-decoration: none\;">2 Bundlets and BOGO coupon from Nothing Bundt Cakes</span></span></span></li>\n	<li class="_04xlpA direction-ltr align-center para-style-body" style="line-height: 1.4\; font-family: &quot\;YACgES_-lms 0&quot\;\, &quot\;_fb_&quot\;\, &quot\;auto&quot\;\; font-size: 15.7392px\; text-transform: none\; color: rgb(0\, 0\, 0)\;"><span style="font-size:14px\;"><span style="font-family:arial\;"><span style="color: rgb(0\, 0\, 0)\; text-decoration: none\;">Heart Necklace from Lemons and Limes Boutique</span></span></span></li>\n	<li class="_04xlpA direction-ltr align-center para-style-body" style="line-height: 1.4\; font-family: &quot\;YACgES_-lms 0&quot\;\, &quot\;_fb_&quot\;\, &quot\;auto&quot\;\; font-size: 15.7392px\; text-transform: none\; color: rgb(0\, 0\, 0)\;"><span style="font-size:14px\;"><span style="font-family:arial\;"><span style="color: rgb(0\, 0\, 0)\; text-decoration: none\;">Loveland Dried Flowers (by Botanica) and Gift Card from Bond Furniture</span></span></span></li>\n</ul>\n
LOCATION:Various restaurants/entertainment venues in downtown Loveland\, OH.
UID:e.260.6789
SEQUENCE:3
DTSTAMP:20260420T215756Z
URL:https://business.lovelandchamber.org/events/details/experience-love-in-loveland-progressive-valentine-s-dinner-2020-6789
END:VEVENT

END:VCALENDAR
