BEGIN:VCALENDAR
VERSION:2.0
PRODID:-//ChamberMaster//Event Calendar 2.0//EN
METHOD:PUBLISH
X-PUBLISHED-TTL:P3D
REFRESH-INTERVAL:P3D
CALSCALE:GREGORIAN
BEGIN:VEVENT
DTSTART:20210212T230000Z
DTEND:20210213T043000Z
X-MICROSOFT-CDO-ALLDAYEVENT:FALSE
SUMMARY:Experience LOVE in Loveland - Progressive Valentine's Dinner 2021
DESCRIPTION:A progressive night out in Historic Downtown Loveland beginning at 6pm.  Treat your special someone to a unique experience in the land of love.  Two packages to choose from!\n\n\n\n2021 Plans:\n\n\n\n**Please note pricing is for each COUPLE. Please register only 1 person and put your spouse/partner's name in the "Company Name" section of the registration. \n\n\n\nSweetheart Package ($175/Couple)\n\n	Drinks and Apps at The Landing Event Center\n	Dinner at The Works in the train car (Dinner includes soup or salad\, pasta and wine)\n	Dessert and bourbon beverage at Bishop's Quarter\n\n Soulmate Package ($250/Couple)\n\n\n	Drinks and Apps at The Landing Event Center\n	Dinner at Hometown Cafe (Red wine braised short ribs\, shiitake mushroom risotto\, and asparagus)\n	Dessert and bourbon beverage at Bishop's Quarter\n\n\nOur Gift to You (included in both packages):\n\n\n	Valentine Flowers\n	Truffles from Cocoa Bites\n	Valentine Caramel Apple from Trailside Provisions\n	20% Purchase from Alley Boutique\n	Coffee from Mile 42\n	Candle \n	Couples Photo\n	Valentine Mug from Busy Bee (included in Cupid Package)\n	and more!!
X-ALT-DESC;FMTTYPE=text/html:<br />\n<br />\n<span style="font-size:14px\;">A progressive night out in Historic Downtown Loveland beginning at 6pm.&nbsp\; Treat your special someone to a unique experience in the land of love.&nbsp\; Two packages to choose from!<br />\n<br />\n<em>2021 Plans:<br />\n<br />\n<strong>**Please note pricing is for each COUPLE. Please register only 1 person and put your spouse/partner&#39\;s name in the &quot\;Company Name&quot\; section of the registration. </strong><br />\n<br />\n<span style="font-family:arial\;">Sweetheart Package ($175/Couple)</span></em></span>\n<ul>\n	<li class="_04xlpA direction-ltr align-center para-style-body" style="line-height: 1.4\; font-family: &quot\;YACgES_-lms 0&quot\;\, &quot\;_fb_&quot\;\, &quot\;auto&quot\;\; font-size: 14.4961px\; text-transform: none\; color: rgb(0\, 0\, 0)\;"><span style="font-size:14px\;"><span style="font-family:arial\;"><span style="color: rgb(0\, 0\, 0)\; text-decoration: none\;">Drinks and Apps at The Landing Event Center</span></span></span></li>\n	<li class="_04xlpA direction-ltr align-center para-style-body" style="line-height: 1.4\; font-family: &quot\;YACgES_-lms 0&quot\;\, &quot\;_fb_&quot\;\, &quot\;auto&quot\;\; font-size: 14.4961px\; text-transform: none\; color: rgb(0\, 0\, 0)\;"><span style="font-size:14px\;"><span style="font-family:arial\;"><span style="color: rgb(0\, 0\, 0)\; text-decoration: none\;">Dinner at The Works in the train car</span><em style="color: rgb(0\, 0\, 0)\; text-decoration: none\;"> (Dinner includes soup or salad\, pasta and wine</em>)</span></span></li>\n	<li class="_04xlpA direction-ltr align-center para-style-body" style="line-height: 1.4\; font-family: &quot\;YACgES_-lms 0&quot\;\, &quot\;_fb_&quot\;\, &quot\;auto&quot\;\; font-size: 14.4961px\; text-transform: none\; color: rgb(0\, 0\, 0)\;"><span style="font-size:14px\;"><span style="font-family:arial\;"><span style="color: rgb(0\, 0\, 0)\; text-decoration: none\;">Dessert and bourbon beverage at Bishop&#39\;s Quarter</span></span></span></li>\n</ul>\n<span style="font-size:14px\;"> <span style="font-family:arial\;">Soulmate Package ($250/Couple)</span></span>\n\n<ul>\n	<li class="_04xlpA direction-ltr align-center para-style-body" style="line-height: 1.4\; font-family: &quot\;YACgES_-lms 0&quot\;\, &quot\;_fb_&quot\;\, &quot\;auto&quot\;\; font-size: 14.4961px\; text-transform: none\; color: rgb(0\, 0\, 0)\;"><span style="font-size:14px\;"><span style="font-family:arial\;"><span style="color: rgb(0\, 0\, 0)\; text-decoration: none\;">Drinks and Apps at The Landing Event Center</span></span></span></li>\n	<li class="_04xlpA direction-ltr align-center para-style-body" style="line-height: 1.4\; font-family: &quot\;YACgES_-lms 0&quot\;\, &quot\;_fb_&quot\;\, &quot\;auto&quot\;\; font-size: 14.4961px\; text-transform: none\; color: rgb(0\, 0\, 0)\;"><span style="font-size:14px\;"><span style="font-family:arial\;"><span style="color: rgb(0\, 0\, 0)\; text-decoration: none\;">Dinner at<em> Hometown Cafe (</em></span></span></span><span style="font-family:arial\;"><em>Red wine braised short ribs\, shiitake mushroom risotto\, and asparagus)</em></span></li>\n	<li><span style="font-size:14px\;"><span style="font-family:arial\;"><span style="color: rgb(0\, 0\, 0)\; text-decoration: none\;">Dessert and bourbon beverage at Bishop&#39\;s Quarter</span></span></span></li>\n</ul>\n\n<p class="_04xlpA direction-ltr align-center para-style-body" style="line-height: 1.4\; font-family: &quot\;YALBs1aLP9I 0&quot\;\, &quot\;_fb_&quot\;\, &quot\;auto&quot\;\; font-size: 18.3624px\; text-transform: none\; color: rgb(0\, 0\, 0)\;"><span style="font-size:14px\;"><span style="font-family:arial\;"><strong style="color: rgb(0\, 0\, 0)\; text-decoration: none\;">Our Gift to You</strong><em style="color: rgb(0\, 0\, 0)\; text-decoration: none\;"> (included in both packages):</em></span></span></p>\n\n<ul>\n	<li class="_04xlpA direction-ltr align-center para-style-body" style="line-height: 1.4\; font-family: &quot\;YALBs1aLP9I 0&quot\;\, &quot\;_fb_&quot\;\, &quot\;auto&quot\;\; font-size: 18.3624px\; text-transform: none\; color: rgb(0\, 0\, 0)\;"><span style="font-size:14px\;"><span style="font-family:arial\;"><em style="color: rgb(0\, 0\, 0)\; text-decoration: none\;">Valentine Flowers</em></span></span></li>\n	<li class="_04xlpA direction-ltr align-center para-style-body" style="line-height: 1.4\; font-family: &quot\;YALBs1aLP9I 0&quot\;\, &quot\;_fb_&quot\;\, &quot\;auto&quot\;\; font-size: 18.3624px\; text-transform: none\; color: rgb(0\, 0\, 0)\;"><span style="font-size:14px\;"><span style="font-family:arial\;"><em style="color: rgb(0\, 0\, 0)\; text-decoration: none\;">Truffles from Cocoa Bites</em></span></span></li>\n	<li class="_04xlpA direction-ltr align-center para-style-body" style="line-height: 1.4\; font-family: &quot\;YALBs1aLP9I 0&quot\;\, &quot\;_fb_&quot\;\, &quot\;auto&quot\;\; font-size: 18.3624px\; text-transform: none\; color: rgb(0\, 0\, 0)\;"><span style="font-size:14px\;"><span style="font-family:arial\;"><em style="color: rgb(0\, 0\, 0)\; text-decoration: none\;">Valentine Caramel Apple from Trailside Provisions</em></span></span></li>\n	<li class="_04xlpA direction-ltr align-center para-style-body" style="line-height: 1.4\; font-family: &quot\;YALBs1aLP9I 0&quot\;\, &quot\;_fb_&quot\;\, &quot\;auto&quot\;\; font-size: 18.3624px\; text-transform: none\; color: rgb(0\, 0\, 0)\;"><span style="font-size:14px\;"><span style="font-family:arial\;"><em style="color: rgb(0\, 0\, 0)\; text-decoration: none\;">20% Purchase from Alley Boutique</em></span></span></li>\n	<li class="_04xlpA direction-ltr align-center para-style-body" style="line-height: 1.4\; font-family: &quot\;YALBs1aLP9I 0&quot\;\, &quot\;_fb_&quot\;\, &quot\;auto&quot\;\; font-size: 18.3624px\; text-transform: none\; color: rgb(0\, 0\, 0)\;"><span style="font-size:14px\;"><span style="font-family:arial\;"><em style="color: rgb(0\, 0\, 0)\; text-decoration: none\;">Coffee from Mile 42</em></span></span></li>\n	<li class="_04xlpA direction-ltr align-center para-style-body" style="line-height: 1.4\; font-family: &quot\;YALBs1aLP9I 0&quot\;\, &quot\;_fb_&quot\;\, &quot\;auto&quot\;\; font-size: 18.3624px\; text-transform: none\; color: rgb(0\, 0\, 0)\;"><span style="font-size:14px\;"><span style="font-family:arial\;"><em style="color: rgb(0\, 0\, 0)\; text-decoration: none\;">Candle </em></span></span></li>\n	<li class="_04xlpA direction-ltr align-center para-style-body" style="line-height: 1.4\; font-family: &quot\;YALBs1aLP9I 0&quot\;\, &quot\;_fb_&quot\;\, &quot\;auto&quot\;\; font-size: 18.3624px\; text-transform: none\; color: rgb(0\, 0\, 0)\;"><span style="font-size:14px\;"><span style="font-family:arial\;"><em style="color: rgb(0\, 0\, 0)\; text-decoration: none\;">Couples Photo</em></span></span></li>\n	<li class="_04xlpA direction-ltr align-center para-style-body" style="line-height: 1.4\; font-family: &quot\;YALBs1aLP9I 0&quot\;\, &quot\;_fb_&quot\;\, &quot\;auto&quot\;\; font-size: 18.3624px\; text-transform: none\; color: rgb(0\, 0\, 0)\;"><span style="font-size:14px\;"><span style="font-family:arial\;"><em style="color: rgb(0\, 0\, 0)\; text-decoration: none\;">Valentine Mug from Busy Bee (included in Cupid Package)</em></span></span></li>\n	<li class="_04xlpA direction-ltr align-center para-style-body" style="line-height: 1.4\; font-family: &quot\;YALBs1aLP9I 0&quot\;\, &quot\;_fb_&quot\;\, &quot\;auto&quot\;\; font-size: 18.3624px\; text-transform: none\; color: rgb(0\, 0\, 0)\;"><span style="font-size:14px\;"><span style="font-family:arial\;"><em style="color: rgb(0\, 0\, 0)\; text-decoration: none\;">and more!!</em></span></span></li>\n</ul>\n
LOCATION:Various restaurants/entertainment venues in downtown Loveland\, OH.
UID:e.260.6834
SEQUENCE:3
DTSTAMP:20260424T010533Z
URL:https://business.lovelandchamber.org/events/details/experience-love-in-loveland-progressive-valentine-s-dinner-2021-6834
END:VEVENT

END:VCALENDAR
