BEGIN:VCALENDAR
VERSION:2.0
PRODID:-//ChamberMaster//Event Calendar 2.0//EN
METHOD:PUBLISH
X-PUBLISHED-TTL:P3D
REFRESH-INTERVAL:P3D
CALSCALE:GREGORIAN
BEGIN:VEVENT
DTSTART:20230411T153000Z
DTEND:20230411T170000Z
X-MICROSOFT-CDO-ALLDAYEVENT:FALSE
SUMMARY:Feed Your Mind Eastside Chamber Series: Bridging the Generational Gap
DESCRIPTION:From 8-Tracks to Tik Tok: Bridging the Generational Gap\n\nJoin us for the April event in our joint chamber speaker series\, "Feed Your Mind"!\n\n\n\n\n\n\nTHANK YOU FOR YOUR INTEREST. REGISTRATION IS CURRENTLY CLOSED.\n\n\n\n\n\nThere are currently 5(!) generations in the workforce. Come learn more about our current labor force\,  and some best practices for inter-generational communication. Come to this engaging and interactive event where you will learn the best ways to communicate\, manage conflict\, discuss unique perspectives and contributions\, and motivate and retain employees from all generations!\n\n\n\nThe current generations in the workforce are:\n\n\n	Traditionalists (born between 1928 and 1945) \n	Baby Boomers (born between 1946 and 1964)\n	Generation X (born between 1965 and 1980)\n	Millennials (born between 1981 and 1996)\n	Generation Z (born between 1997 and 2012) \n\n\nJoin us to learn more!
X-ALT-DESC;FMTTYPE=text/html:<div style="text-align: center\;"><br />\n<span style="font-size:14px\;"><span style="font-family:arial\;"><em>From 8-Tracks to Tik Tok: Bridging the Generational Gap</em><br />\nJoin us for the April event in our joint chamber speaker series\, &quot\;Feed Your Mind&quot\;!</span></span></div>\n<br />\n<br />\n<br />\n<span style="font-size:14px\;"><span style="font-family:arial\;"><span style="font-size:16px\;"><strong>THANK YOU FOR YOUR INTEREST. REGISTRATION IS CURRENTLY CLOSED.</strong></span><br />\n<br />\n<br />\nThere are currently 5(!) generations in the workforce. Come learn more about our current labor force\,&nbsp\; and some best practices for inter-generational communication. Come to this engaging and interactive event where you will learn the best ways to communicate\, manage conflict\, discuss unique perspectives and contributions\, and motivate and retain employees from all generations!<br />\n<br />\nThe current generations in the workforce are:</span></span>\n\n<ul>\n	<li class="TrT0Xe" style="margin: 0px 0px 4px\; padding: 0px\; list-style-type: disc\;"><span style="font-size:14px\;"><span style="font-family:arial\;">Traditionalists (born between 1928 and 1945) </span></span></li>\n	<li class="TrT0Xe" style="margin: 0px 0px 4px\; padding: 0px\; list-style-type: disc\;"><span style="font-size:14px\;"><span style="font-family:arial\;">Baby Boomers (born between 1946 and 1964)</span></span></li>\n	<li class="TrT0Xe" style="margin: 0px 0px 4px\; padding: 0px\; list-style-type: disc\;"><span style="font-size:14px\;"><span style="font-family:arial\;">Generation X (born between 1965 and 1980)</span></span></li>\n	<li class="TrT0Xe" style="margin: 0px 0px 4px\; padding: 0px\; list-style-type: disc\;"><span style="font-size:14px\;"><span style="font-family:arial\;">Millennials (born between 1981 and 1996)</span></span></li>\n	<li class="TrT0Xe" style="margin: 0px 0px 4px\; padding: 0px\; list-style-type: disc\;"><span style="font-size:14px\;"><span style="font-family:arial\;">Generation Z (born between 1997 and 2012) </span></span></li>\n</ul>\n\n<div class="TrT0Xe" style="margin: 0px 0px 4px\; padding: 0px\; list-style-type: disc\;"><span style="font-size:14px\;"><span style="font-family:arial\;">Join us to learn more!</span></span><br />\n&nbsp\;</div>\n
LOCATION:The Building 116 N Karl Brown Way
UID:e.260.6905
SEQUENCE:3
DTSTAMP:20260422T185343Z
URL:https://business.lovelandchamber.org/events/details/feed-your-mind-eastside-chamber-series-bridging-the-generational-gap-6905
END:VEVENT

END:VCALENDAR
