BEGIN:VCALENDAR
VERSION:2.0
PRODID:-//ChamberMaster//Event Calendar 2.0//EN
METHOD:PUBLISH
X-PUBLISHED-TTL:P3D
REFRESH-INTERVAL:P3D
CALSCALE:GREGORIAN
BEGIN:VEVENT
DTSTART:20200919T200000Z
DTEND:20200920T010000Z
X-MICROSOFT-CDO-ALLDAYEVENT:FALSE
SUMMARY:Food Truck Grab and Go 2020--Loveland
DESCRIPTION:Please join for the Food Truck Grab and Go!\n\nWe're changing it up a little in 2020!\n\n\n\nLooking to grab some great food from a local food truck? Join us this year as you "carryout" your food truck food and beverages!\n\n\nAttention Food Truck Vendors: we are no longer accepting applications for food trucks\, as we are at capacity. Thank you for your interest!\n\n\n\nThis family-friendly event is free to attend and includes:\n\n--Assortment of Food Trucks\n\n--Beverages for sale! We'll be offering an assortment of beer\, wine\, water\, soda.\n\n\n\n*Please note: Social Distancing must be practices at this event. All food is for grab and go\, no congregating permitted. No seating or tables are provided for this event\; per Hamilton County Department of Health\, no food is permitted to be consumed while standing.\n\nAll beverages will be purchased from one location at the event. No-contact payment is option available through our credit card processor. Beverages will be sealed (no draft beer available). Liquor license to be obtained through the State of Ohio. All alcohol sales will cease at 10pm.
X-ALT-DESC;FMTTYPE=text/html:<div style="text-align: center\;"><span style="font-size:16px\;"><strong>Please join for the Food Truck Grab and Go!<br />\nWe&#39\;re changing it up a little in 2020!<br />\n<br />\nLooking to grab some great food from a local food truck? Join us this year as you &quot\;carryout&quot\; your food truck food and beverages!</strong></span></div>\n<br />\n<em>Attention Food Truck Vendors: we are no longer accepting applications for food trucks\, as we are at capacity. Thank you for your interest!</em><br />\n<br />\n<span style="font-size:16px\;"><span style="font-size:14px\;">This family-friendly event is free to attend and includes:<br />\n--Assortment of Food Trucks<br />\n--Beverages for sale! We&#39\;ll be offering an assortment of beer\, wine\, water\, soda.</span></span><br />\n<br />\n<em><span style="font-size:16px\;"><span style="font-size:14px\;">*Please note: Social Distancing must be practices at this event. All food is for grab and go\, no congregating permitted. No seating or tables are provided for this event\; per Hamilton County Department of Health\, no food is permitted to be consumed while standing.</span></span></em>\n\n<p class="MsoNormal"><em>All beverages will be purchased from one location at the event. No-contact payment is option available through our credit card processor. Beverages will be sealed (no draft beer available). Liquor license to be obtained through the State of Ohio. All alcohol sales will cease at 10pm.</em></p>\n\n<p class="MsoNormal">&nbsp\;</p>\n&nbsp\;\n\n<div style="text-align: center\;"><br />\n<br />\n&nbsp\;</div>\n\n<div style="text-align: center\;">&nbsp\;</div>\n
LOCATION:Shopper's Haven Plaza
UID:e.260.6788
SEQUENCE:3
DTSTAMP:20260421T015106Z
URL:https://business.lovelandchamber.org/events/details/food-truck-grab-and-go-2020-loveland-6788
END:VEVENT

END:VCALENDAR
