BEGIN:VCALENDAR
VERSION:2.0
PRODID:-//ChamberMaster//Event Calendar 2.0//EN
METHOD:PUBLISH
X-PUBLISHED-TTL:P3D
REFRESH-INTERVAL:P3D
CALSCALE:GREGORIAN
BEGIN:VEVENT
DTSTART:20210508T190000Z
DTEND:20210509T020000Z
X-MICROSOFT-CDO-ALLDAYEVENT:FALSE
SUMMARY:Food Truck Rally 2021--Loveland
DESCRIPTION:Please join us for our 8th Annual Loveland Food Truck Rally!\n\n\n\n\nThis family-friendly event is free to attend and includes:\n\n--Assortment of Food Trucks with the option of tailgating (limited area)\; tables\, or takeout  to allow for Covid-safety.\n\n--Entertainment and Live Music\n\n--Beverages for sale! We'll be offering an assortment of beer\, wine\, water\, soda.\n\n--Masks are required for this event and food may only be consumed while seated.\n\n\n\n*Please note: Feel free to bring along your folding chairs! No Coolers or outside food and beverages allowed.\n\n \n\n\nAdditional Sponsorships are Available - contact the Chamber for more information
X-ALT-DESC;FMTTYPE=text/html:<div style="text-align: center\;"><span style="font-size:16px\;"><strong>Please join us for our 8th Annual Loveland Food Truck Rally!</strong></span></div>\n<br />\n<br />\n<span style="font-size:16px\;"><span style="font-size:14px\;">This family-friendly event is free to attend and includes:<br />\n--Assortment of Food Trucks with the option of tailgating (limited area)\; tables\, or takeout&nbsp\; to allow for Covid-safety.<br />\n--Entertainment and Live Music<br />\n--Beverages for sale! We&#39\;ll be offering an assortment of beer\, wine\, water\, soda.<br />\n--Masks are required for this event and food may only be consumed while seated.</span></span><br />\n<br />\n<span style="font-size:16px\;"><span style="font-size:14px\;">*Please note: Feel free to bring along your folding chairs! No Coolers or outside food and beverages allowed.</span></span><br />\n&nbsp\;\n<div style="text-align: center\;"><br />\n<span style="font-size:16px\;"><em><span style="font-size:14px\;">Additional Sponsorships are Available - contact the Chamber for more information</span></em></span></div>\n\n<div style="text-align: center\;">&nbsp\;</div>\n
LOCATION:Shopper's Haven Plaza
UID:e.260.6836
SEQUENCE:3
DTSTAMP:20260423T213152Z
URL:https://business.lovelandchamber.org/events/details/food-truck-rally-2021-loveland-6836
END:VEVENT

END:VCALENDAR
