BEGIN:VCALENDAR
VERSION:2.0
PRODID:-//ChamberMaster//Event Calendar 2.0//EN
METHOD:PUBLISH
X-PUBLISHED-TTL:P3D
REFRESH-INTERVAL:P3D
CALSCALE:GREGORIAN
BEGIN:VEVENT
DTSTART:20230209T163000Z
DTEND:20230209T180000Z
X-MICROSOFT-CDO-ALLDAYEVENT:FALSE
SUMMARY:Health Is Wealth: Achieving Food & Financial Freedom in 2023
DESCRIPTION:Let's kick off a healthy 2023!\n\n\n\nJoin Emily Mobley from Gray Nutrition and Jen Fischer from Numbers by Jen as they lead us in how to get our health and wealth in shape!\n\n \n\n\nYou'll Learn:\n\n\n\n	How society's consumer mentality is making you more unhealthy with your spending and your nutrition.\n	Two simple steps to create immense awareness around your nutrition & finances.\n	Three expert essentials to help you cut the noise and optimize for a long and healthy life.\n\n\n\nEmily's Bio:\n\nEmily Mobley is founder of Gray Nutrition\, Cincinnati native\, and Dietitian who has transformed 100's of 1\,000's of lives through her 4-step Gray Method. The Gray Method was born out of Emily's own dieting journey and after years of Slim Fast\, tons of cardio\, and counting points\, she realized there had to be a better way! Emily's passion for simplifying nutrition\, myth busting\, and focusing on the system needed for weight loss have allowed her to become a pivotal asset in transforming people's relationship with food and more importantly their relationship with themselves. Her mission for Gray Nutrition is to expand within the Cincinnati community and provide access to nutrition education\, dietitians\, and wellness resources so people can feel their best\, prevent disease\, perform at a higher level\, and thrive within their family and professional life. \n\n \n\nJen's Bio:\n\nJen Fischer is a bookkeeper\, and the owner of Numbers by Jen. Backed by years of former corporate experience\, she's on a mission to help fellow moms and entrepreneurs finally understand their family finances and business bookkeeping. As a woman living in an ever changing and fast-paced world while working and running a family of four\, she deeply relates to the stress of also managing money\, on top of everything else. Her passion is in simplifying finances to make them approachable and fun. Money is notoriously black and white\, and there are a lot of "experts" in the field\, so Jen helps women sift through the noise and implement simple\, effective plans. She loves connecting with clients through her casual\, non-accounting-y approach and loves walking beside them on their journey to financial peace and freedom.
X-ALT-DESC;FMTTYPE=text/html:<div>&nbsp\;\n<p style="margin: 0px\; padding: 0px\; text-align: center\;">&nbsp\;</p>\n\n<p style="margin: 0px\; padding: 0px\; text-align: center\;"><span style="font-size:14px\;"><span style="font-family:arial\;"><span style="font-size:16px\;"><em><strong>Let&#39\;s kick off a healthy 2023!</strong></em></span><br />\n<br />\nJoin Emily Mobley from Gray Nutrition and Jen Fischer from Numbers by Jen as they lead us in how to get our health and wealth in shape!</span></span></p>\n\n<p style="margin: 0px\; padding: 0px\;">&nbsp\;</p>\n</div>\n\n<div><span style="font-size:14px\;"><span style="font-family:arial\;">You&#39\;ll Learn:</span></span></div>\n\n<div>\n<ul>\n	<li><span style="font-size:14px\;"><span style="font-family:arial\;">How society&#39\;s consumer mentality is making you more unhealthy with your spending and your nutrition.</span></span></li>\n	<li><span style="font-size:14px\;"><span style="font-family:arial\;">Two simple steps to create immense awareness around your&nbsp\;nutrition &amp\; finances.</span></span></li>\n	<li><span style="font-size:14px\;"><span style="font-family:arial\;">Three expert essentials to help you cut the noise and optimize for a long and healthy&nbsp\;life.</span></span></li>\n</ul>\n</div>\n\n<div><span style="font-size:14px\;"><span style="font-family:arial\;">Emily&#39\;s Bio:</span></span></div>\n\n<div><span style="font-size:14px\;"><span style="font-family:arial\;"><span style="font-variant-numeric: normal\; font-variant-east-asian: normal\; background-color: transparent !important\; vertical-align: baseline\; white-space: pre-wrap\;">Emily Mobley is founder of Gray Nutrition\, Cincinnati native\, and Dietitian who has transformed 100&rsquo\;s of 1\,000&rsquo\;s of lives through her 4-step Gray Method. </span><span style="font-variant-numeric: normal\; font-variant-east-asian: normal\; color: rgb(60\, 64\, 67) !important\; vertical-align: baseline\; white-space: pre-wrap\;">The Gray Method was born out of Emily&#39\;s own dieting journey and after years of Slim Fast\, tons of cardio\, and counting points\, she realized there had to be a better way!</span><span style="font-variant-numeric: normal\; font-variant-east-asian: normal\; background-color: transparent !important\; vertical-align: baseline\; white-space: pre-wrap\;"> Emily&rsquo\;s passion for simplifying nutrition\, myth busting\, and focusing on the system needed for weight loss have allowed her to become a pivotal asset in transforming people&rsquo\;s relationship with food and more importantly their relationship with themselves.&nbsp\;Her mission for Gray Nutrition is to expand within the Cincinnati community and provide access to nutrition education\, dietitians\, and wellness resources so people can feel their best\, prevent disease\, perform at a higher level\, and thrive within their family and professional life. </span></span></span></div>\n\n<div>&nbsp\;</div>\n\n<div><span style="font-size:14px\;"><span style="font-family:arial\;"><span class="markq6x0oyi03" data-markjs="true" data-ogab="" data-ogac="" data-ogsb="" data-ogsc="">Jen</span>&#39\;s Bio:</span></span></div>\n\n<div><span style="font-size:14px\;"><span style="font-family:arial\;"><span class="markq6x0oyi03" data-markjs="true" data-ogab="" data-ogac="" data-ogsb="" data-ogsc="">Jen</span> <span class="mark4ddnns0ix" data-markjs="true" data-ogab="" data-ogac="" data-ogsb="" data-ogsc="">Fischer</span> is a bookkeeper\, and the owner of Numbers by <span class="markq6x0oyi03" data-markjs="true" data-ogab="" data-ogac="" data-ogsb="" data-ogsc="">Jen</span>. Backed by years of former corporate experience\, she&#39\;s on a mission to help fellow moms and entrepreneurs finally understand their family finances and business bookkeeping. As a woman living in an ever&nbsp\;changing and fast-paced world while working and running a family of four\, she deeply relates to the stress of also managing money\, on top of everything else. Her passion is in simplifying finances to make&nbsp\;them approachable and fun. Money is notoriously black and white\, and there are a lot of &quot\;experts&quot\; in the field\, so <span class="markq6x0oyi03" data-markjs="true" data-ogab="" data-ogac="" data-ogsb="" data-ogsc="">Jen</span> helps women sift through the noise and implement simple\, effective plans. She loves connecting with clients through her casual\, non-accounting-y approach and loves walking beside them on their journey to financial peace and freedom.</span></span></div>\n\n<div>&nbsp\;</div>\n
LOCATION:The 1859 | 111 S 3rd St Loveland OH
UID:e.260.6896
SEQUENCE:3
DTSTAMP:20260422T210841Z
URL:https://business.lovelandchamber.org/events/details/health-is-wealth-achieving-food-financial-freedom-in-2023-6896
END:VEVENT

END:VCALENDAR
