BEGIN:VCALENDAR
VERSION:2.0
PRODID:-//ChamberMaster//Event Calendar 2.0//EN
METHOD:PUBLISH
X-PUBLISHED-TTL:P3D
REFRESH-INTERVAL:P3D
CALSCALE:GREGORIAN
BEGIN:VEVENT
DTSTART:20221207T220000Z
DTEND:20221208T000000Z
X-MICROSOFT-CDO-ALLDAYEVENT:FALSE
SUMMARY:Holiday After Hours & Annual Meeting 2022
DESCRIPTION:It's been a great year!\n\nThis event is a great way to learn more about your Chamber\n\nand network with other members.\n\n\n\nThere will be a brief 2022 year in review and presentation of our goals for 2023. \n\nYou will also have the opportunity to meet your 2023 Board of Directors.
X-ALT-DESC;FMTTYPE=text/html:<div style="text-align: center\;"><span style="font-family:arial\;"><span style="font-size: 12px\;"><span style="font-size:16px\;"><strong><em>It&#39\;s been a great year!</em></strong><br />\nThis event is a great way to learn more about your Chamber<br />\nand network with other members.<br />\n<br />\nThere will be a brief 2022 year in review and presentation of our goals for 2023.&nbsp\;<br />\nYou will also have the opportunity to meet your 2023 Board of Directors.</span></span></span><br />\n<br />\n&nbsp\;</div>\n
LOCATION:O'Bannon Creek Golf Club 6842 Oakland Rd\, Loveland\, OH 45140
UID:e.260.6892
SEQUENCE:3
DTSTAMP:20260422T221842Z
URL:https://business.lovelandchamber.org/events/details/holiday-after-hours-annual-meeting-2022-6892
END:VEVENT

END:VCALENDAR
