BEGIN:VCALENDAR
VERSION:2.0
PRODID:-//ChamberMaster//Event Calendar 2.0//EN
METHOD:PUBLISH
X-PUBLISHED-TTL:P3D
REFRESH-INTERVAL:P3D
CALSCALE:GREGORIAN
BEGIN:VEVENT
DTSTART:20211207T140000Z
DTEND:20211207T160000Z
X-MICROSOFT-CDO-ALLDAYEVENT:FALSE
SUMMARY:Holiday Breakfast & Annual Meeting 2021
DESCRIPTION:It's been a great year!\n\nThis event is a great way to learn more about your Chamber\n\nand network with other members. Join us for a complimentary breakfast as we thank you for an incredible year.\n\n\n\nThere will be a brief 2021 year in review and presentation of our goals for 2022.  You will also have the opportunity to meet your 2022 Board of Directors.
X-ALT-DESC;FMTTYPE=text/html:<div style="text-align: center\;"><span style="font-family:arial\;"><span style="font-size: 12px\;"><span style="font-size:16px\;"><strong><em>It&#39\;s been a great year!</em></strong><br />\nThis event is a great way to learn more about your Chamber<br />\nand network with other members. Join us for a complimentary breakfast as we thank you for an incredible year.<br />\n<br />\nThere will be a brief 2021 year in review and presentation of our goals for 2022.&nbsp\; You will also have the opportunity to meet your 2022 Board of Directors.</span></span></span><br />\n<br />\n&nbsp\;</div>\n
LOCATION:HCC 1007 Cottonwood Dr\, Loveland\, OH 45140
UID:e.260.6860
SEQUENCE:3
DTSTAMP:20260423T130057Z
URL:https://business.lovelandchamber.org/events/details/holiday-breakfast-annual-meeting-2021-6860
END:VEVENT

END:VCALENDAR
