BEGIN:VCALENDAR
VERSION:2.0
PRODID:-//ChamberMaster//Event Calendar 2.0//EN
METHOD:PUBLISH
X-PUBLISHED-TTL:P3D
REFRESH-INTERVAL:P3D
CALSCALE:GREGORIAN
BEGIN:VEVENT
DTSTART:20210422T203000Z
DTEND:20210422T223000Z
X-MICROSOFT-CDO-ALLDAYEVENT:FALSE
SUMMARY:HOMEARAMA 2022 Community Kickoff Event
DESCRIPTION:Join us for the community kick-off of HOMEARAMA  2022 on Thursday\, April 22\, 2021 from 4:30 - 6:30 p.m. at Bishop's Quarter in Loveland with the Little Miami River Chamber Alliance. Light refreshments will be served. Meet the ChimneyRidge developer\, builders\, and network with the Little Miami River Chamber members\, the Loveland Mayor\, and Council members.\n\n\n\nRegister Here
X-ALT-DESC;FMTTYPE=text/html:<br />\n<br />\n<span style="font-size:14px\;"><span class="d2edcug0 hpfvmrgz qv66sw1b c1et5uql oi732d6d ik7dh3pa ht8s03o8 a8c37x1j keod5gw0 nxhoafnm aigsh9s9 d3f4x2em fe6kdd0r mau55g9w c8b282yb iv3no6db jq4qci2q a3bd9o3v knj5qynh oo9gr5id" dir="auto">Join us for the community kick-off of HOMEARAMA&reg\; 2022 on Thursday\, April 22\, 2021 from 4:30 - 6:30 p.m. at Bishop&#39\;s Quarter in Loveland with the Little Miami River Chamber Alliance. Light refreshments will be served. Meet the ChimneyRidge developer\, builders\, and network with the Little Miami River Chamber members\, the Loveland Mayor\, and Council members.</span><br />\n<br />\n<a href="https://www.eventbrite.com/e/homearama-2022-community-kickoff-tickets-148584743969">Register Here &gt\;</a></span>
LOCATION:Bishop's Quarter Downtown Loveland
UID:e.260.6841
SEQUENCE:3
DTSTAMP:20260423T224037Z
URL:https://business.lovelandchamber.org/events/details/homearama-2022-community-kickoff-event-6841
END:VEVENT

END:VCALENDAR
