BEGIN:VCALENDAR
VERSION:2.0
PRODID:-//ChamberMaster//Event Calendar 2.0//EN
METHOD:PUBLISH
X-PUBLISHED-TTL:P3D
REFRESH-INTERVAL:P3D
CALSCALE:GREGORIAN
BEGIN:VEVENT
DTSTART:20210517T200000Z
DTEND:20210517T230000Z
X-MICROSOFT-CDO-ALLDAYEVENT:FALSE
SUMMARY:Job Fair Spring 2021
DESCRIPTION:Join us for a Job Fair!\n\nYour "one stop shop" for finding a great job!\n\n\nSponsored by:\n\nOasis Conference Center & Express Employment Professionals\n\n \n\n\nEmployers: Looking to hire to fill open positions or expand your staff? Having trouble filling vacancies? Take advantage of this job fair! Booths are $40 and include a covered table and chairs.\n\n\n\nJob Seekers:\n\nIf you or someone you know is looking for a job\, this is a great place to find. Explore multiple industries\, job opportunities\, shift schedules\, and more!\n\n\n	Learn more about potential sign-on and retention bonus programs\n	Find out more about trade certification \n	Try a new industry \n	Find your passion\n\n\nParticipating Vendors:\n\nCartridge Brewing\n\nCompass Group\n\nCrown Services\, Inc.\n\nExpress Employment Professionals\n\nGE Credit Union\n\nGraeters\n\nHealthQuest\n\nHome Instead\n\nJack Rabbit Loveland\n\nMagnolia Springs\n\nMane\, Inc.\n\nMike's Carwash\n\nOasis Golf Club & Conference Center\n\nPaxton's Grill\n\nReady 2 Roll Moving\n\nRP Diamond Printing & Embroidery\n\nShelter Insurance\n\nSwimSafe Pool Management\n\nTano Hospitality Group\n\n \n\n\n**Please note this event will follow state Covid safety guidelines.
X-ALT-DESC;FMTTYPE=text/html:<br />\n<br />\n&nbsp\;\n<div style="text-align: center\;"><span style="font-family:arial\;"><span style="font-size:20px\;"><strong>Join us for a Job Fair!</strong></span><br />\n<span style="font-size:18px\;">Your &quot\;one stop shop&quot\; for finding a great job!</span></span></div>\n<br />\n<span style="font-size:16px\;"><span style="font-family:arial\;"><em>Sponsored by:<br />\nOasis Conference Center &amp\; Express Employment Professionals</em></span></span><br />\n&nbsp\;\n<div style="font-family:Calibri\,Arial\,Helvetica\,sans-serif\; font-size:12pt\; color:rgb(0\,0\,0)"><br />\n<span style="font-size:16px\;"><span style="font-family:arial\;"><strong>Employers</strong>: Looking to hire to fill open positions or expand your staff? Having trouble filling vacancies? Take advantage of this job fair! Booths are $40 and include a covered table and chairs.<br />\n<br />\n<strong>Job Seekers</strong>:<br />\nIf you or someone you know is looking for a job\, this is a great place to find. Explore multiple industries\, job opportunities\, shift schedules\, and more!</span></span>\n\n<ul>\n	<li style="font-family:Calibri\,Arial\,Helvetica\,sans-serif\; font-size:12pt\; color:rgb(0\,0\,0)"><span style="font-size:16px\;"><span style="font-family:arial\;">Learn more about potential sign-on and retention bonus programs</span></span></li>\n	<li style="font-family:Calibri\,Arial\,Helvetica\,sans-serif\; font-size:12pt\; color:rgb(0\,0\,0)"><span style="font-size:16px\;"><span style="font-family:arial\;">Find out more about trade certification </span></span></li>\n	<li style="font-family:Calibri\,Arial\,Helvetica\,sans-serif\; font-size:12pt\; color:rgb(0\,0\,0)"><span style="font-size:16px\;"><span style="font-family:arial\;">Try a new industry </span></span></li>\n	<li style="font-family:Calibri\,Arial\,Helvetica\,sans-serif\; font-size:12pt\; color:rgb(0\,0\,0)"><span style="font-size:16px\;"><span style="font-family:arial\;">Find your passion</span></span></li>\n</ul>\n\n<div style="font-family:Calibri\,Arial\,Helvetica\,sans-serif\; font-size:12pt\; color:rgb(0\,0\,0)"><span style="font-size:16px\;"><span style="font-family:arial\;"><em>Participating Vendors</em>:<br />\nCartridge Brewing<br />\nCompass Group<br />\nCrown Services\, Inc.<br />\nExpress Employment Professionals<br />\nGE Credit Union<br />\nGraeters<br />\nHealthQuest<br />\nHome Instead<br />\nJack Rabbit Loveland<br />\nMagnolia Springs<br />\nMane\, Inc.<br />\nMike&#39\;s Carwash<br />\nOasis Golf Club &amp\; Conference Center<br />\nPaxton&#39\;s Grill<br />\nReady 2 Roll Moving<br />\nRP Diamond Printing &amp\; Embroidery<br />\nShelter Insurance<br />\nSwimSafe Pool Management<br />\nTano Hospitality Group</span></span></div>\n\n<div style="font-family:Calibri\,Arial\,Helvetica\,sans-serif\; font-size:12pt\; color:rgb(0\,0\,0)">&nbsp\;</div>\n</div>\n\n<div style="font-family:Calibri\,Arial\,Helvetica\,sans-serif\; font-size:12pt\; color:rgb(0\,0\,0)"><span style="font-size:14px\;"><em><span style="font-family:arial\;">**Please note this event will follow state Covid safety guidelines.</span></em></span></div>\n
LOCATION:Oasis Conference Center 902 Loveland-Miamiville Rd\, Loveland\, OH 45140
UID:e.260.6844
SEQUENCE:3
DTSTAMP:20260423T223850Z
URL:https://business.lovelandchamber.org/events/details/job-fair-spring-2021-6844
END:VEVENT

END:VCALENDAR
