BEGIN:VCALENDAR
VERSION:2.0
PRODID:-//ChamberMaster//Event Calendar 2.0//EN
METHOD:PUBLISH
X-PUBLISHED-TTL:P3D
REFRESH-INTERVAL:P3D
CALSCALE:GREGORIAN
BEGIN:VEVENT
DTSTART;VALUE=DATE:20170701
DTEND;VALUE=DATE:20170801
TRANSP:TRANSPARENT
X-MICROSOFT-CDO-ALLDAYEVENT:TRUE
SUMMARY:L.I.F.E
DESCRIPTION:The L.I.F.E. (Loveland Inter Faith Effort) Food Pantry is a faith based organization that provides food\,\n\nfinancial assistance and services to in need residents within the Loveland School District. For over six\n\nyears\, the L.I.F.E. Food Pantry has been assisting qualified families of Loveland students by providing\n\npersonal care bags for the new school year. These bags have included dental care supplies\, socks\,\n\nunderwear\, Loveland Spirit wear\, books\, gift cards and other personal care items. We're happy to\n\nannounce that we will be offering the same service this year along with SCHOOL BACK PACKS filled\n\nwith grade appropriate school supplies.\n\nThe Student L.I.F.E. Shop will be held at the Prince of Peace Church on August 12\, 2017. In addition\n\nto personal care items and school supplies\, there will be representatives from various schools and\n\ncommunity programs. Each qualifying family will have the opportunity to sign up for these programs.\n\nRemember the beginning of each school year and the excitement of getting new school supplies\, perhaps\n\na new outfit and new shoes? Many of these students don't have opportunities that we had. We are\n\nasking that you please consider donating to this wonderful cause which will give each student that\n\npositive outlook toward a new school year.\n\nBecause of your assistance\, we are fortunate to be able to hold events of this kind. Last year\, with the\n\nhelp of the community\, we served over 200 children from 113 families. Attached is a list of personal\n\ncare items and school supplies that our Loveland students will need to start off the new school year. We\n\nappreciate any donations you can give. They can be marked Student L.I.F.E. and dropped off in the\n\ndonation boxes located inside the side door of Prince of Peace Church\, Loveland Music Academy (209 W\n\nLoveland Ave) or directly at the pantry when we are open (Mon/Thurs 4-6:30 and Wed/Sat 10 - 12:30).\n\nDonations will be accepted during the month of July\n\nPersonal Items\n\nSingle toothbrushes Children/Adult shampoo Conditioner Comb/Brush\n\nToothpaste Women's and Men's deodorant Water Bottle Shaving Cream\n\nDental floss/Piks Feminine Hygiene Products Bar of soap Childrens 3 in 1\n\nSocks and underwear\, all sizes\, ESPECIALLY Youth and Men's XL.\n\nMonetary donations and Gift Cards are also greatly appreciated (please make checks payable to L.I.F.E.\n\nand notate Student L.I.F.E. on the memo line). For more information\, please call the L.I.F.E. pantry at\n\n(513) 585-8222.\n\nThank you so much for your consideration.\n\nSharon Raess - Chair Student L.I.F.E. Shop\n\nLinda Bergholz - Director L.I.F.E. Food Pantry\n\nlovelandlifefoodpantry.org\n\nPlease like us on Facebook - Loveland Interfaith Effort L.I.F.E
X-ALT-DESC;FMTTYPE=text/html:The L.I.F.E. (Loveland Inter Faith Effort) Food Pantry is a faith based organization that provides food\,<br />\nfinancial assistance and services to in need residents within the Loveland School District. For over six<br />\nyears\, the L.I.F.E. Food Pantry has been assisting qualified families of Loveland students by providing<br />\npersonal care bags for the new school year. These bags have included dental care supplies\, socks\,<br />\nunderwear\, Loveland Spirit wear\, books\, gift cards and other personal care items. We&#39\;re happy to<br />\nannounce that we will be offering the same service this year along with SCHOOL BACK PACKS filled<br />\nwith grade appropriate school supplies.<br />\nThe Student L.I.F.E. Shop will be held at the Prince of Peace Church on August 12\, 2017. In addition<br />\nto personal care items and school supplies\, there will be representatives from various schools and<br />\ncommunity programs. Each qualifying family will have the opportunity to sign up for these programs.<br />\nRemember the beginning of each school year and the excitement of getting new school supplies\, perhaps<br />\na new outfit and new shoes? Many of these students don&#39\;t have opportunities that we had. We are<br />\nasking that you please consider donating to this wonderful cause which will give each student that<br />\npositive outlook toward a new school year.<br />\nBecause of your assistance\, we are fortunate to be able to hold events of this kind. Last year\, with the<br />\nhelp of the community\, we served over 200 children from 113 families. Attached is a list of personal<br />\ncare items and school supplies that our Loveland students will need to start off the new school year. We<br />\nappreciate any donations you can give. They can be marked Student L.I.F.E. and dropped off in the<br />\ndonation boxes located inside the side door of Prince of Peace Church\, Loveland Music Academy (209 W<br />\nLoveland Ave) or directly at the pantry when we are open (Mon/Thurs 4-6:30 and Wed/Sat 10 - 12:30).<br />\nDonations will be accepted during the month of July<br />\nPersonal Items<br />\nSingle toothbrushes Children/Adult shampoo Conditioner Comb/Brush<br />\nToothpaste Women&#39\;s and Men&#39\;s deodorant Water Bottle Shaving Cream<br />\nDental floss/Piks Feminine Hygiene Products Bar of soap Childrens 3 in 1<br />\nSocks and underwear\, all sizes\, ESPECIALLY Youth and Men&#39\;s XL.<br />\nMonetary donations and Gift Cards are also greatly appreciated (please make checks payable to L.I.F.E.<br />\nand notate Student L.I.F.E. on the memo line). For more information\, please call the L.I.F.E. pantry at<br />\n(513) 585-8222.<br />\nThank you so much for your consideration.<br />\nSharon Raess - Chair Student L.I.F.E. Shop<br />\nLinda Bergholz - Director L.I.F.E. Food Pantry<br />\nlovelandlifefoodpantry.org<br />\nPlease like us on Facebook - Loveland Interfaith Effort L.I.F.E
LOCATION:Prince of Peace Church Loveland Music Academy -209 W. Loveland Avenue
UID:e.260.5635
SEQUENCE:3
DTSTAMP:20260423T170257Z
URL:https://business.lovelandchamber.org/events/details/l-i-f-e-5635
END:VEVENT

END:VCALENDAR
