BEGIN:VCALENDAR
VERSION:2.0
PRODID:-//ChamberMaster//Event Calendar 2.0//EN
METHOD:PUBLISH
X-PUBLISHED-TTL:P3D
REFRESH-INTERVAL:P3D
CALSCALE:GREGORIAN
BEGIN:VEVENT
DTSTART:20210526T210000Z
DTEND:20210526T230000Z
X-MICROSOFT-CDO-ALLDAYEVENT:FALSE
SUMMARY:Loveland Business Mixer and After Hours Networking Event
DESCRIPTION:Join area business at First National Bank in Loveland. Come see their new location and network with other area businesses. Food and Beverages provided. Registration not required
X-ALT-DESC;FMTTYPE=text/html:Join area business at First National Bank in Loveland. Come see their new location and network with other area businesses. Food and Beverages provided. Registration not required
LOCATION:First National Bank-Loveland location 10600 Loveland Madeira Road Loveland\, OH 45140
UID:e.260.6847
SEQUENCE:3
DTSTAMP:20260423T213055Z
URL:https://business.lovelandchamber.org/events/details/loveland-business-mixer-and-after-hours-networking-event-6847
END:VEVENT

END:VCALENDAR
