BEGIN:VCALENDAR
VERSION:2.0
PRODID:-//ChamberMaster//Event Calendar 2.0//EN
METHOD:PUBLISH
X-PUBLISHED-TTL:P3D
REFRESH-INTERVAL:P3D
CALSCALE:GREGORIAN
BEGIN:VEVENT
DTSTART:20220514T190000Z
DTEND:20220515T020000Z
X-MICROSOFT-CDO-ALLDAYEVENT:FALSE
SUMMARY:Loveland Food Truck Rally 2022
DESCRIPTION:Please join us for our 9th Annual Loveland Food Truck Rally!\n\n\n\n***PLEASE NOTE WE ARE AT FOOD TRUCK CAPACITY AND WE ARE NO LONGER ACCEPTING FOOD TRUCK APPS\n\n\nThis family-friendly event is free to attend and includes:\n\n--Assortment of Food Trucks\n\n--Entertainment and Live Music\n\n--Beverages for sale! We'll be offering an assortment of beer\, wine\, water\, soda.\n\n\n\n\n\n*Please note: Feel free to bring along your folding chairs! No Coolers or outside food and beverages allowed.\n\n \n\n\nAdditional Sponsorships are Available - contact the Chamber for more information
X-ALT-DESC;FMTTYPE=text/html:<div style="text-align: center\;"><br />\n<br />\n<br />\n<span style="font-size:16px\;"><strong>Please join us for our 9th Annual Loveland Food Truck Rally!</strong></span><br />\n<br />\n***PLEASE NOTE WE ARE AT FOOD TRUCK CAPACITY AND WE ARE NO LONGER ACCEPTING FOOD TRUCK APPS</div>\n<br />\n<span style="font-size:16px\;"><span style="font-size:14px\;">This family-friendly event is free to attend and includes:<br />\n--Assortment of Food Trucks<br />\n--Entertainment and Live Music<br />\n--Beverages for sale! We&#39\;ll be offering an assortment of beer\, wine\, water\, soda.</span></span><br />\n<br />\n<br />\n<span style="font-size:16px\;"><span style="font-size:14px\;">*Please note: Feel free to bring along your folding chairs! No Coolers or outside food and beverages allowed.</span></span><br />\n&nbsp\;\n<div style="text-align: center\;"><br />\n<span style="font-size:16px\;"><em><span style="font-size:14px\;">Additional Sponsorships are Available - contact the Chamber for more information</span></em></span></div>\n\n<div style="text-align: center\;">&nbsp\;</div>\n
LOCATION:Shopper's Haven Plaza
UID:e.260.6866
SEQUENCE:3
DTSTAMP:20260423T062418Z
URL:https://business.lovelandchamber.org/events/details/loveland-food-truck-rally-2022-6866
END:VEVENT

END:VCALENDAR
