BEGIN:VCALENDAR
VERSION:2.0
PRODID:-//ChamberMaster//Event Calendar 2.0//EN
METHOD:PUBLISH
X-PUBLISHED-TTL:P3D
REFRESH-INTERVAL:P3D
CALSCALE:GREGORIAN
BEGIN:VEVENT
DTSTART:20230513T190000Z
DTEND:20230514T020000Z
X-MICROSOFT-CDO-ALLDAYEVENT:FALSE
SUMMARY:Loveland Food Truck Rally 2023
DESCRIPTION:**WE ARE CURRENTLY AT CAPACITY FOR FOOD TRUCK REGISTRATIONS.**\n\n\n\n*****NO LONGER ACCEPTING FOOD TRUCKS*****\n\n\n\n\n\nPlease join us for our 10th Annual \n\nLoveland Food Truck Rally!\n\n\n\n \n\n\nThis family-friendly event is free to attend and includes:\n\n--Assortment of Food Trucks\n\n--Entertainment and Live Music\n\n--Beverages for sale! We'll be offering an assortment of beer\, wine\, water\, soda.\n\n\n\n\n\n*Please note: Feel free to bring along your folding chairs! No Coolers or outside food and beverages allowed.\n\n \n\n\nAdditional Sponsorships are Available - contact the Chamber for more information
X-ALT-DESC;FMTTYPE=text/html:<div style="text-align: center\;"><br />\n<br />\n<br />\n<strong><span style="font-size:16px\;"><span style="color:#FF0000\;">**WE ARE CURRENTLY AT CAPACITY FOR FOOD TRUCK REGISTRATIONS.**</span></span><br />\n<br />\n*****NO LONGER ACCEPTING FOOD TRUCKS*****</strong><br />\n<br />\n<br />\n<span style="font-size:16px\;"><strong>Please join us for our 10th Annual </strong></span></div>\n\n<div style="text-align: center\;"><span style="font-size:16px\;"><strong>Loveland Food Truck Rally!</strong></span><br />\n<br />\n&nbsp\;</div>\n<br />\n<span style="font-size:16px\;">This family-friendly event is free to attend and includes:<br />\n--Assortment of Food Trucks<br />\n--Entertainment and Live Music<br />\n--Beverages for sale! We&#39\;ll be offering an assortment of beer\, wine\, water\, soda.<br />\n<br />\n<br />\n*Please note: Feel free to bring along your folding chairs! No Coolers or outside food and beverages allowed.</span><br />\n&nbsp\;\n<div style="text-align: center\;"><br />\n<span style="font-size:16px\;"><em>Additional Sponsorships are Available - contact the Chamber for more information</em></span></div>\n\n<div style="text-align: center\;">&nbsp\;</div>\n
LOCATION:Shopper's Haven Plaza
UID:e.260.6902
SEQUENCE:3
DTSTAMP:20260422T162241Z
URL:https://business.lovelandchamber.org/events/details/loveland-food-truck-rally-2023-6902
END:VEVENT

END:VCALENDAR
