BEGIN:VCALENDAR
VERSION:2.0
PRODID:-//ChamberMaster//Event Calendar 2.0//EN
METHOD:PUBLISH
X-PUBLISHED-TTL:P3D
REFRESH-INTERVAL:P3D
CALSCALE:GREGORIAN
BEGIN:VEVENT
DTSTART:20210527T223000Z
DTEND:20210528T003000Z
X-MICROSOFT-CDO-ALLDAYEVENT:FALSE
SUMMARY:Loveland Young Professionals Happy Hour
DESCRIPTION:We're back! Calling all Young Professionals who live/work/play in the greater Loveland-area!\n\n \n\nJoin us for a 2021 kick off as we venture back into a regular rhythm of events. We'll see you there for drinks\, networking\, sharing what we have in store for 2021!
X-ALT-DESC;FMTTYPE=text/html:<div><br />\n<br />\n<span style="font-size:16px\;">We&#39\;re back! Calling all Young Professionals who live/work/play in the greater Loveland-area!</span></div>\n\n<div>&nbsp\;</div>\n\n<div><span style="font-size:16px\;">Join us for a 2021 kick off as we venture back into a regular rhythm of events. We&#39\;ll see you there for drinks\, networking\, sharing what we have in store for 2021!</span></div>\n
LOCATION:Monkey Bar & Grille
UID:e.260.6846
SEQUENCE:3
DTSTAMP:20260423T213004Z
URL:https://business.lovelandchamber.org/events/details/loveland-young-professionals-happy-hour-6846
END:VEVENT

END:VCALENDAR
