BEGIN:VCALENDAR
VERSION:2.0
PRODID:-//ChamberMaster//Event Calendar 2.0//EN
METHOD:PUBLISH
X-PUBLISHED-TTL:P3D
REFRESH-INTERVAL:P3D
CALSCALE:GREGORIAN
BEGIN:VEVENT
DTSTART:20210623T153000Z
DTEND:20210623T170000Z
X-MICROSOFT-CDO-ALLDAYEVENT:FALSE
SUMMARY:Lunch & Learn: Facebook Ads
DESCRIPTION:Have you been curious about how Facebook and Instagram advertising could be a serious growth engine for your business? Brien Gearin with Ricochet Digital Marketing will be showing you exactly how your business can utilize Facebook and Instagram advertising to grow your brand and your bottom line. The time to use the world's most powerful platforms to your advantage is now!\n\n\n\nBrien is the founder and CEO of Ricochet Digital Marketing in Loveland. Brien was born and raised in Cincinnati and graduated from Sycamore High School followed by the University of Dayton with a Degree in English. He founded Ricochet with the goal of helping small businesses grow through the strategic use of social media advertising and multiple forms of digital marketing. Brien resides in Loveland with his wife and two daughters.
X-ALT-DESC;FMTTYPE=text/html:<br />\n<br />\n<br />\n<span style="font-size: 14px\;">Have you been curious about how Facebook and Instagram advertising could be a serious growth engine for your business? Brien Gearin with Ricochet Digital Marketing will be showing you exactly how your business can utilize Facebook and Instagram advertising to grow your brand and your bottom line. The time to use the world&#39\;s most powerful platforms to your advantage is now!</span><br />\n<br />\n<em>Brien is the founder and CEO of Ricochet Digital Marketing in Loveland. Brien was born and raised in Cincinnati and graduated from Sycamore High School followed by the University of Dayton with a Degree in English. He founded Ricochet with the goal of helping small businesses grow through the strategic use of social media advertising and multiple forms of digital marketing. Brien resides in Loveland with his wife and two daughters.</em>
LOCATION:HCC - Hamilton Clermont Cooperative 1007 Cottonwood Drive Loveland\, OH 45140
UID:e.260.6848
SEQUENCE:3
DTSTAMP:20260423T201328Z
URL:https://business.lovelandchamber.org/events/details/lunch-learn-facebook-ads-6848
END:VEVENT

END:VCALENDAR
