BEGIN:VCALENDAR
VERSION:2.0
PRODID:-//ChamberMaster//Event Calendar 2.0//EN
METHOD:PUBLISH
X-PUBLISHED-TTL:P3D
REFRESH-INTERVAL:P3D
CALSCALE:GREGORIAN
BEGIN:VEVENT
DTSTART:20221013T153000Z
DTEND:20221013T173000Z
X-MICROSOFT-CDO-ALLDAYEVENT:FALSE
SUMMARY:Lunch & Learn: Polish Your Presence
DESCRIPTION:Which fork to use? When to start eating at a business lunch? Just what exactly is off limits for business conversation? We'll talk about all this and more at our business etiquette lunch to help you "polish" your presence!\n\n\n\nThis luncheon is led by Mary Starvaggi:\n\nMary Starvaggi has spent over the past 25 years as an etiquette consultant and communications specialist developing and delivering communication workshops and etiquette programs throughout the country. She is the founder of Etiquette Advantage which supports a vast range of clients\, from medical office workers and administrative assistances to nurse practitioners\, from doctors to lawyers\, to college and university professionals and businesses\, to elementary and secondary school students.\n  Currently\, Mary is a National Speaker for AbbVie Pharmaceuticals\, speaking to group practices and hospitals about productive interactions between patients and healthcare providers. The Etiquette Advantage programs are modeled on real-life applications\, hands on interactive learning\, role-playing and modeling behaviors. Greetings and introductions\, first impressions\, customer service training and how to properly dine in a professional setting are program topics.\n\nMary Starvaggi is affiliated with\; Etiquette and Protocol Professionals\; Image and Etiquette Consultants\, National Association of Professional Women
X-ALT-DESC;FMTTYPE=text/html:<p>&nbsp\;</p>\n<br />\n<span style="font-size:14px\;"><span style="color: rgb(64\, 63\, 66)\; font-family: Arial\, Verdana\, Helvetica\, sans-serif\; font-style: normal\; font-variant-ligatures: normal\; font-variant-caps: normal\; font-weight: 400\; letter-spacing: normal\; text-align: left\; text-indent: 0px\; text-transform: none\; white-space: normal\; word-spacing: 0px\; -webkit-text-stroke-width: 0px\; background-color: rgb(255\, 255\, 255)\; text-decoration-thickness: initial\; text-decoration-style: initial\; text-decoration-color: initial\; display: inline !important\; float: none\;">Which fork to use? When to start eating at a business lunch? Just what exactly is off limits for business conversation? We&#39\;ll talk about all this and more at our business etiquette lunch to help you &quot\;polish&quot\; your presence!<br />\n<br />\nThis luncheon is led by Mary Starvaggi:</span></span>\n\n<p><em><span style="font-size:14px\;">Mary Starvaggi has spent over the past 25 years as an etiquette consultant and communications specialist developing and delivering communication workshops and etiquette programs throughout the country. She is the founder of Etiquette Advantage which supports a vast range of clients\, from medical office workers and administrative assistances to nurse practitioners\, from doctors to lawyers\, to college and university professionals and businesses\, to elementary and secondary school students.</span></em></p>\n<em> <span style="font-size:14px\;"> Currently\, Mary is a National Speaker for AbbVie Pharmaceuticals\, speaking to group practices and hospitals about productive interactions between patients and healthcare providers. The Etiquette Advantage programs are modeled on real-life applications\, hands on interactive learning\, role-playing and modeling behaviors. Greetings and introductions\, first impressions\, customer service training and how to properly dine in a professional setting are program topics.</span></em>\n\n<p><em><span style="font-size:14px\;">Mary Starvaggi is affiliated with\; Etiquette and Protocol Professionals\; Image and Etiquette Consultants\, National Association of Professional Women</span></em></p>\n
LOCATION:Tano Bistro Downtown Loveland
UID:e.260.6882
SEQUENCE:3
DTSTAMP:20260423T004307Z
URL:https://business.lovelandchamber.org/events/details/lunch-learn-polish-your-presence-6882
END:VEVENT

END:VCALENDAR
