BEGIN:VCALENDAR
VERSION:2.0
PRODID:-//ChamberMaster//Event Calendar 2.0//EN
METHOD:PUBLISH
X-PUBLISHED-TTL:P3D
REFRESH-INTERVAL:P3D
CALSCALE:GREGORIAN
BEGIN:VEVENT
DTSTART:20230302T160000Z
DTEND:20230302T170000Z
X-MICROSOFT-CDO-ALLDAYEVENT:FALSE
SUMMARY:Medicare 101 Webinar
DESCRIPTION:This Medicare 101 informational session is being presented by Katie Miracle. The upcoming webinar will educate you on Medicare basics impacting individuals and businesses.\n\n	Learn how Medicare coordinates with health insurance.\n	Learn the How\, When\, Where and Who on signing up for Medicare.\n	Learn the differences between Original Medicare\, Medicare Advantage Plans and Supplements\n	More than 10\,000 people turn 65 every day. Medicare could soon be a decision for you\, your parents\, your employees.\n\n\nAbout Katie:\n\nKatie has had her insurance license for over 20 years and her current focus medicare\, individual coverage and also offer full-service group benefits. She is a long time Loveland resident\, and has children at Loveland Schools and also volunteers for the Loveland Athletic Boosters organizing the Craft Show.
X-ALT-DESC;FMTTYPE=text/html:<br />\n<br />\n<span style="font-size:14px\;"><span class="x_ContentPasted1" style="color: rgb(0\, 0\, 0)\; font-family: Tahoma\, Geneva\, sans-serif\;">This Medicare 101 informational session is being presented by Katie Miracle. The upcoming webinar will educate you on Medicare basics impacting individuals and businesses.</span></span>\n<ul>\n	<li style="font-size:9pt\; font-family:Tahoma\,Geneva\,sans-serif\; color:rgb(0\,0\,0)"><span style="font-size:14px\;">Learn how Medicare coordinates with health <span class="mark8gaiyhrbu" data-markjs="true" data-ogab="" data-ogac="" data-ogsb="" data-ogsc="">insurance</span>.</span></li>\n	<li style="font-size:9pt\; font-family:Tahoma\,Geneva\,sans-serif\; color:rgb(0\,0\,0)"><span style="font-size:14px\;">Learn the How\, When\, Where and Who on signing up for Medicare.</span></li>\n	<li style="font-size:9pt\; font-family:Tahoma\,Geneva\,sans-serif\; color:rgb(0\,0\,0)"><span style="font-size:14px\;">Learn the differences between Original Medicare\, Medicare Advantage Plans and Supplements</span></li>\n	<li class="x_ContentPasted2" style="font-size:9pt\; font-family:Tahoma\,Geneva\,sans-serif\; color:rgb(0\,0\,0)"><span style="font-size:14px\;">More than 10\,000 people turn 65 every day. Medicare could soon be a decision for you\, your parents\, your employees.</span></li>\n</ul>\n\n<div class="x_ContentPasted2" style="font-size:9pt\; font-family:Tahoma\,Geneva\,sans-serif\; color:rgb(0\,0\,0)"><span style="font-size:14px\;">About Katie:</span><br />\n<em>Katie has had her insurance license for over 20 years and her current focus medicare\, individual coverage and also offer full-service group benefits. She is a long time Loveland resident\, and has children at Loveland Schools and also volunteers for the Loveland Athletic Boosters organizing the Craft Show.</em></div>\n
LOCATION:
UID:e.260.6904
SEQUENCE:3
DTSTAMP:20260422T185205Z
URL:https://business.lovelandchamber.org/events/details/medicare-101-webinar-6904
END:VEVENT

END:VCALENDAR
