BEGIN:VCALENDAR
VERSION:2.0
PRODID:-//ChamberMaster//Event Calendar 2.0//EN
METHOD:PUBLISH
X-PUBLISHED-TTL:P3D
REFRESH-INTERVAL:P3D
CALSCALE:GREGORIAN
BEGIN:VEVENT
DTSTART:20210415T130000Z
DTEND:20210415T140000Z
X-MICROSOFT-CDO-ALLDAYEVENT:FALSE
SUMMARY:Morning Brews & Benefits
DESCRIPTION:NEW IN 2021!\n\n \n\nAre you taking advantage of the all the cost saving benefits LMRCA has to offer? Curious about how you can save your business money\, run an efficient business\, and help your employees?\n\n \n\nJoin us:\n\n\nApril 15 | 9am\n\nMile 42 Coffee\n\nGet a deeper dive regarding these benefits:\n\n\n401K/365 Wealth Management\n\nAnthem Health Benefits/Saxon Financial\n\n\n*Be informed for May open enrollment!\n\n \n\n\nCoffee is on us!\n\nMorning Brews & Benefits will be held quarterly throughout the year for your business to learn more and take advantage of cost-saving benefits!
X-ALT-DESC;FMTTYPE=text/html:<div style="text-align: center\;"><br />\n<br />\n<span style="font-size:20px\;"><span style="font-weight: bold\;">NEW IN 2021!</span></span></div>\n\n<div style="text-align: center\;">&nbsp\;</div>\n\n<div style="text-align: center\;"><span style="font-size: 14px\;">Are you taking advantage of the all the cost saving benefits LMRCA has to offer? Curious about how you can save your business money\, run an efficient business\, and help your employees?</span></div>\n\n<div style="text-align: center\;">&nbsp\;</div>\n\n<div style="text-align: center\;"><span style="font-size:18px\;"><span style="font-weight: bold\;">Join us:</span></span></div>\n\n<div style="text-align: center\;">\n<div style="text-align: center\;"><span style="font-size:18px\;"><span style="font-weight: bold\;">April 15 | 9am</span></span></div>\n\n<div style="text-align: center\;"><span style="font-size:18px\;"><span style="font-weight: bold\;">Mile 42 Coffee</span></span></div>\n\n<div style="text-align: center\;"><span style="font-size:18px\;"><span style="font-weight: bold\;">Get a deeper dive regarding these benefits:</span></span></div>\n\n<div style="text-align: center\;">\n<div style="text-align: center\;"><span style="font-size:18px\;">401K/365 Wealth Management</span></div>\n\n<div style="text-align: center\;"><span style="font-size:18px\;">Anthem Health Benefits/Saxon Financial</span></div>\n</div>\n\n<div style="text-align: center\;"><span style="font-size:18px\;"><span style="font-style: italic\;">*Be informed for May open enrollment!</span></span></div>\n\n<div>&nbsp\;</div>\n</div>\n\n<div style="text-align: center\;"><span style="font-size: 14px\;">Coffee is on us!</span></div>\n\n<div style="text-align: center\;"><span style="font-size: 14px\; font-style: italic\;">Morning Brews &amp\; Benefits will be held quarterly throughout the year for your business to learn more and take advantage of cost-saving benefits!</span></div>\n
LOCATION:Mile 42 Coffee
UID:e.260.6842
SEQUENCE:3
DTSTAMP:20260423T223955Z
URL:https://business.lovelandchamber.org/events/details/morning-brews-benefits-6842
END:VEVENT

END:VCALENDAR
