BEGIN:VCALENDAR
VERSION:2.0
PRODID:-//ChamberMaster//Event Calendar 2.0//EN
METHOD:PUBLISH
X-PUBLISHED-TTL:P3D
REFRESH-INTERVAL:P3D
CALSCALE:GREGORIAN
BEGIN:VEVENT
DTSTART:20210924T200000Z
DTEND:20210926T020000Z
X-MICROSOFT-CDO-ALLDAYEVENT:FALSE
SUMMARY:Oktoberfest Loveland 2021
DESCRIPTION:Get a taste of German in Loveland!\n\n-Biergarten featuring Warsteiner (all drink tips benefit CancerFree Kids)\n\n-Stein Hoist Competition\n\n-Lederhosen Competition\n\n-Keg Tapping\n\n-German Food and Flair\n\n\n\nBe a Sponsor! Contact the Chamber for more details.
X-ALT-DESC;FMTTYPE=text/html:<br />\n<span style="font-size:14px\;"><strong>Get a taste of German in Loveland!</strong><br />\n-Biergarten featuring Warsteiner (all drink tips benefit CancerFree Kids)<br />\n-Stein Hoist Competition<br />\n-Lederhosen Competition<br />\n-Keg Tapping<br />\n-German Food and Flair<br />\n<br />\nBe a Sponsor! Contact the Chamber for more details.</span><br />\n<br />\n&nbsp\;
LOCATION:Downtown Loveland Biergarten to be located in Nisbet Park
UID:e.260.6857
SEQUENCE:3
DTSTAMP:20260423T163257Z
URL:https://business.lovelandchamber.org/events/details/oktoberfest-loveland-2021-6857
END:VEVENT

END:VCALENDAR
