BEGIN:VCALENDAR
VERSION:2.0
PRODID:-//ChamberMaster//Event Calendar 2.0//EN
METHOD:PUBLISH
X-PUBLISHED-TTL:P3D
REFRESH-INTERVAL:P3D
CALSCALE:GREGORIAN
BEGIN:VEVENT
DTSTART:20220923T200000Z
DTEND:20220925T020000Z
X-MICROSOFT-CDO-ALLDAYEVENT:FALSE
SUMMARY:Oktoberfest Loveland 2022
DESCRIPTION:Get a taste of German in Loveland!\n\n-Biergarten featuring Warsteiner (all drink tips benefit CancerFree Kids)\n\n-Stein Hoist Competition\n\n-Lederhosen Competition\n\n-Keg Tapping\n\n-German Food and Flair\n\n\n\nShuttles provided both days from 5-10pm. Continuous loops from LECC and Shopper's Haven Plaza\n\n\n\nFriday:\n\n4:00 PM Event begins and Biergarten opens\, Stein Slide opens\n\n4:00-6:00 PM Live Music on Main Stage: Alico the Band\n\n6:00-10:00 PM Schnappsband\n\n6:30 PM Stein Hoist Prelims begin at local Restaurants and Bars \n\n7:30 PM -8:00 PM German Dancers\n\n10:00 PM Event ends \n\n\n\nSaturday:\n\n12:00 PM Event begins and Biergarten opens\, Stein Slide opens\n\n12:00-1:00 PM Premier Dance and Tumbling\n\n12:00-4:00 PM Kids zone with face painting\, crafts\, bounce house & games\n\n1:00-5:00 PM Schnappsband\n\n3:00 PM Weiner Dog Race\, Nisbet Park \n\n4:00\, 5:00\, 6:00 PM Chicken Dance on Stage on the hour with Loveland Leaders\n\n5:00 PM Ceremonial Keg Procession and Keg Tapping\; meet at City Hall\n\n5:45 PM Stein Hoist Finals on Main Stage hosted by WLWT Channel 5 Meteorologist\, Randi Rico\n\n6:00 PM Zinzinnati Bier Band live on stage \n\n10:00 PM Event ends
X-ALT-DESC;FMTTYPE=text/html:<p><span style="font-size:16px\;"><span style="font-family:arial\;"><span id="cke_bm_116S" style="display: none\;">&nbsp\;</span><br />\n<strong>Get a taste of German in Loveland!</strong><br />\n-Biergarten featuring Warsteiner (all drink tips benefit CancerFree Kids)<br />\n-Stein Hoist Competition<br />\n-Lederhosen Competition<br />\n-Keg Tapping<br />\n-German Food and Flair<br />\n<br />\n<span class="JsGRdQ" style="color: rgb(0\, 0\, 0)\; font-weight: 400\; font-style: italic\; text-decoration: none\;">Shuttles provided both days from 5-10pm. Continuous loops from LECC and Shopper&#39\;s Haven Plaza<br />\n<br />\nFriday:</span></span></span></p>\n\n<p --font-size:="" --line-height:="" class="_04xlpA direction-ltr align-start para-style-body" line-height:="" style="color: rgb(0\, 0\, 0)\; font-family: " text-transform:="" yad7qhg2t6o=""><span style="font-size:16px\;"><span style="font-family:arial\;"><span class="JsGRdQ" style="color: rgb(0\, 0\, 0)\; font-weight: 400\; font-style: normal\; text-decoration: none\;">4:00 PM Event begins and Biergarten opens\, Stein Slide opens</span><br />\n<span class="JsGRdQ" style="color: rgb(0\, 0\, 0)\; font-weight: 400\; font-style: normal\; text-decoration: none\;">4:00-6:00 PM Live Music on Main Stage: </span><span class="JsGRdQ" style="color: rgb(0\, 0\, 0)\; font-weight: 400\; font-style: italic\; text-decoration: none\;">Alico the Band</span></span></span><br />\n<span style="font-size:16px\;"><span style="font-family:arial\;"><span class="JsGRdQ" style="color: rgb(0\, 0\, 0)\; font-weight: 400\; font-style: normal\; text-decoration: none\;">6:00-10:00 PM </span><span class="JsGRdQ" style="color: rgb(0\, 0\, 0)\; font-weight: 400\; font-style: italic\; text-decoration: none\;">Schnappsband</span></span></span><br />\n<span style="font-size:16px\;"><span style="font-family:arial\;"><span class="JsGRdQ" style="color: rgb(0\, 0\, 0)\; font-weight: 400\; font-style: normal\; text-decoration: none\;">6:30 PM Stein Hoist Prelims begin at local Restaurants and Bars</span><span class="JsGRdQ white-space-prewrap" style="color: rgb(0\, 0\, 0)\; font-weight: 400\; font-style: normal\; text-decoration: none\;"> </span></span></span><br />\n<span style="font-size:16px\;"><span style="font-family:arial\;"><span class="JsGRdQ" style="color: rgb(0\, 0\, 0)\; font-weight: 400\; font-style: normal\; text-decoration: none\;">7:30 PM -8:00 PM German Dancers</span></span></span><br />\n<span style="font-size:16px\;"><span style="font-family:arial\;"><span class="JsGRdQ" style="color: rgb(0\, 0\, 0)\; font-weight: 400\; font-style: normal\; text-decoration: none\;">10:00 PM Event ends</span><span class="JsGRdQ white-space-prewrap" style="color: rgb(0\, 0\, 0)\; font-weight: 400\; font-style: normal\; text-decoration: none\;"> </span><br />\n<br />\nSaturday:</span></span></p>\n\n<p --font-size:="" --line-height:="" class="_04xlpA direction-ltr align-start para-style-body" line-height:="" style="color: rgb(0\, 0\, 0)\; font-family: " text-transform:="" yad7qhg2t6o=""><span style="font-size:16px\;"><span style="font-family:arial\;"><span class="JsGRdQ" style="color: rgb(0\, 0\, 0)\; font-weight: 400\; font-style: normal\; text-decoration: none\;">12:00 PM Event begins and Biergarten opens\, Stein Slide opens</span><br />\n<span class="JsGRdQ" style="color: rgb(0\, 0\, 0)\; font-weight: 400\; font-style: normal\; text-decoration: none\;">12:00-1:00 PM Premier Dance and Tumbling</span></span></span><br />\n<span style="font-size:16px\;"><span style="font-family:arial\;"><span class="JsGRdQ" style="color: rgb(0\, 0\, 0)\; font-weight: 400\; font-style: normal\; text-decoration: none\;">12:00-4:00 PM Kids zone with face painting\, crafts\, bounce house &amp\; games</span></span></span><br />\n<span style="font-size:16px\;"><span style="font-family:arial\;"><span class="JsGRdQ" style="color: rgb(0\, 0\, 0)\; font-weight: 400\; font-style: normal\; text-decoration: none\;">1:00-5:00 PM </span><span class="JsGRdQ" style="color: rgb(0\, 0\, 0)\; font-weight: 400\; font-style: italic\; text-decoration: none\;">Schnappsband</span></span></span><br />\n<span style="font-size:16px\;"><span style="font-family:arial\;"><span class="JsGRdQ" style="color: rgb(0\, 0\, 0)\; font-weight: 400\; font-style: normal\; text-decoration: none\;">3:00 PM Weiner Dog Race\, Nisbet Park</span><span class="JsGRdQ white-space-prewrap" style="color: rgb(0\, 0\, 0)\; font-weight: 400\; font-style: normal\; text-decoration: none\;"> </span></span></span><br />\n<span style="font-size:16px\;"><span style="font-family:arial\;"><span class="JsGRdQ" style="color: rgb(0\, 0\, 0)\; font-weight: 400\; font-style: normal\; text-decoration: none\;">4:00\, 5:00\, 6:00 PM Chicken Dance on Stage on the hour with Loveland Leaders</span></span></span><br />\n<span style="font-size:16px\;"><span style="font-family:arial\;"><span class="JsGRdQ" style="color: rgb(0\, 0\, 0)\; font-weight: 400\; font-style: normal\; text-decoration: none\;">5:00 PM Ceremonial Keg Procession and Keg Tapping\; meet at City Hall</span></span></span><br />\n<span style="font-size:16px\;"><span style="font-family:arial\;"><span class="JsGRdQ" style="color: rgb(0\, 0\, 0)\; font-weight: 400\; font-style: normal\; text-decoration: none\;">5:45 PM Stein Hoist Finals on Main Stage hosted by WLWT Channel 5 Meteorologist\, Randi Rico</span></span></span><br />\n<span style="font-size:16px\;"><span style="font-family:arial\;"><span class="JsGRdQ" style="color: rgb(0\, 0\, 0)\; font-weight: 400\; font-style: normal\; text-decoration: none\;">6:00 PM </span><span class="JsGRdQ" style="color: rgb(0\, 0\, 0)\; font-weight: 400\; font-style: italic\; text-decoration: none\;">Zinzinnati Bier Band</span><span class="JsGRdQ" style="color: rgb(0\, 0\, 0)\; font-weight: 400\; font-style: normal\; text-decoration: none\;"> live on stage</span><span class="JsGRdQ white-space-prewrap" style="color: rgb(0\, 0\, 0)\; font-weight: 400\; font-style: normal\; text-decoration: none\;"> </span></span></span><br />\n<span style="font-size:16px\;"><span style="font-family:arial\;"><span class="JsGRdQ" style="color: rgb(0\, 0\, 0)\; font-weight: 400\; font-style: normal\; text-decoration: none\;">10:00 PM Event ends</span></span></span></p>\n<br />\n<br />\n<span style="font-size:16px\;"><span style="font-family:arial\;"><span id="cke_bm_116E" style="display: none\;">&nbsp\;</span></span></span>
LOCATION:Downtown Loveland Biergarten located in Nisbet Park
UID:e.260.6880
SEQUENCE:3
DTSTAMP:20260423T024459Z
URL:https://business.lovelandchamber.org/events/details/oktoberfest-loveland-2022-6880
END:VEVENT

END:VCALENDAR
