BEGIN:VCALENDAR
VERSION:2.0
PRODID:-//ChamberMaster//Event Calendar 2.0//EN
METHOD:PUBLISH
X-PUBLISHED-TTL:P3D
REFRESH-INTERVAL:P3D
CALSCALE:GREGORIAN
BEGIN:VEVENT
DTSTART:20260925T200000Z
DTEND:20260927T020000Z
X-MICROSOFT-CDO-ALLDAYEVENT:FALSE
SUMMARY:Oktoberfest Loveland 2026
DESCRIPTION:Get a taste of German in Loveland!\n\nVendor Registration is now open\; please note space is limited and registering does not guarantee your vendor spot\, you will need to be accepted as a vendor from the event organizers to confirm your spot. If not accepted\, you will be reimbursed your registration fee.\n\n\n\nExperience a taste of Germany in Loveland at our upcoming annual community event! Join us for an authentic celebration featuring:\n\n\n	Biergarten featuring Warsteiner: Enjoy refreshing Warsteiner beers\, and drink tips support CancerFree Kids.\n	Live Music: Featuring Oktoberfest's latest hits!\n	Stein Hoist Competition: Test your strength and endurance in our Stein Hoist challenge. REGISTER HERE  \n	Lederhosen Competition: Show off your traditional German attire. Register Here  \n	Keg Tapping: Witness the ceremonial tapping of the keg.\n	German Food and Flair: Indulge in delicious German cuisine and experience true German culture.\n	NEW THIS YEAR: Beard and Mustache Competition (Register Here  )\n	Wiener Dog Race: A fan favorite! Calling all weiner dogs for a fun race on Saturday afternoon. Register your dog here!\n\n\nFull Schedule coming soon!
X-ALT-DESC;FMTTYPE=text/html:<p --font-size:="" --line-height:="" class="_04xlpA direction-ltr align-start para-style-body" line-height:="" style="color: rgb(0\, 0\, 0)\; font-family: " text-transform:="" yad7qhg2t6o=""><span style="font-size:14px\;"><span id="cke_bm_116S" style="display: none\;">&nbsp\;</span><br />\n<strong>Get a taste of German in Loveland!</strong></span></p>\n\n<p><span style="font-size:14px\;">Vendor Registration is now open\; please note space is limited and registering does not guarantee your vendor spot\, you will need to be accepted as a vendor from the event organizers to confirm your spot. If not accepted\, you will be reimbursed your registration fee.<br />\n<br />\nExperience a taste of Germany in Loveland at our upcoming annual community event! Join us for an authentic celebration featuring:</span></p>\n\n<ul>\n	<li><span style="font-size:14px\;"><strong>Biergarten featuring Warsteiner:</strong> Enjoy refreshing Warsteiner beers\, and drink tips support CancerFree Kids.</span></li>\n	<li><span style="font-size:14px\;"><strong>Live Music</strong>: Featuring Oktoberfest&#39\;s latest hits!</span></li>\n	<li><span style="font-size:14px\;"><strong>Stein Hoist Competition:</strong> Test your strength and endurance in our Stein Hoist challenge. <a href="https://www.jotform.com/build/252118787560160">REGISTER HERE &gt\;</a></span></li>\n	<li><span style="font-size:14px\;"><strong>Lederhosen Competition:</strong> Show off your traditional German attire. <a href="https://www.jotform.com/build/252256568606161">Register Here &gt\;</a></span></li>\n	<li><span style="font-size:14px\;"><strong>Keg Tapping:</strong> Witness the ceremonial tapping of the keg.</span></li>\n	<li><span style="font-size:14px\;"><strong>German Food and Flair:</strong> Indulge in delicious German cuisine and experience true German culture.</span></li>\n	<li><span style="font-size:14px\;">NEW THIS YEAR: Beard and Mustache Competition (<a href="https://www.jotform.com/build/252226547967165">Register Here &gt\;</a>)</span></li>\n	<li><span style="font-size:14px\;"><strong>Wiener Dog Race</strong>: A fan favorite! Calling all weiner dogs for a fun race on Saturday afternoon. <a href="https://form.jotform.com/251833394184159">Register your dog here!</a></span></li>\n</ul>\n\n<p class="x_MsoNormal"><b>Full Schedule coming soon!</b><br />\n&nbsp\;</p>\n\n<p class="x_MsoNormal">&nbsp\;</p>\n
LOCATION:Downtown Loveland Biergarten located in Nisbet Park
UID:e.260.7113
SEQUENCE:3
DTSTAMP:20260423T131451Z
URL:https://business.lovelandchamber.org/events/details/oktoberfest-loveland-2026-7113
END:VEVENT

END:VCALENDAR
