BEGIN:VCALENDAR
VERSION:2.0
PRODID:-//ChamberMaster//Event Calendar 2.0//EN
METHOD:PUBLISH
X-PUBLISHED-TTL:P3D
REFRESH-INTERVAL:P3D
CALSCALE:GREGORIAN
BEGIN:VEVENT
DTSTART;VALUE=DATE:20210206
DTEND;VALUE=DATE:20210207
TRANSP:TRANSPARENT
X-MICROSOFT-CDO-ALLDAYEVENT:TRUE
SUMMARY:RSVP's Bridal & Event Show
DESCRIPTION:We are excited to be hosting an intimate bridal and event show with some of Cincinnati's premier vendors.\n\nTickets are just $6 each! \n\nGuests will be able to try a wide variety of hors d'oeuvres\, entrees and side dishes prepared by Village Pantry Catering.  Cake\, sweet treats and a cash bar will also be available. \n\nTo reserve your timed entrance and for more information on being a vendor\, click below. \n\nhttps://rsvpeventcntr.com/bridal-and-event-show/
X-ALT-DESC;FMTTYPE=text/html:&nbsp\;&nbsp\;&nbsp\;&nbsp\;\n<p>We are excited to be hosting an intimate bridal and event show with some of Cincinnati&rsquo\;s premier vendors.</p>\n\n<p>Tickets are just $6 each!&nbsp\;</p>\n\n<p>Guests will be able to try a wide variety of hors d&rsquo\;oeuvres\, entrees and side dishes prepared by Village Pantry Catering.&nbsp\; Cake\, sweet treats and a cash bar will also be available.&nbsp\;</p>\n\n<p>To reserve your timed entrance and for more information on being a vendor\, click below.&nbsp\;</p>\n\n<p><a href="https://rsvpeventcntr.com/bridal-and-event-show/">https://rsvpeventcntr.com/bridal-and-event-show/</a></p>\n
LOCATION:RSVP Event Center 453 Wards Corner Road Loveland\, OH 45140
UID:e.260.6828
SEQUENCE:3
DTSTAMP:20260424T011004Z
URL:https://business.lovelandchamber.org/events/details/rsvp-s-bridal-event-show-6828
END:VEVENT

END:VCALENDAR
