BEGIN:VCALENDAR
VERSION:2.0
PRODID:-//ChamberMaster//Event Calendar 2.0//EN
METHOD:PUBLISH
X-PUBLISHED-TTL:P3D
REFRESH-INTERVAL:P3D
CALSCALE:GREGORIAN
BEGIN:VEVENT
DTSTART;VALUE=DATE:20201128
DTEND;VALUE=DATE:20201129
TRANSP:TRANSPARENT
X-MICROSOFT-CDO-ALLDAYEVENT:TRUE
SUMMARY:Small Business Saturday 2020
DESCRIPTION:JOIN THE MOVEMENT IN THE PLACE YOU CALL HOME!\n\n\n\nWhen you shop at local small businesses\, you support all the things that make our community great.  The money you spend here\, stays here.  Right here in this place you call your neighborhood.\n\n\n\nSmall Business Saturday is a movement encouraging people to shop at small businesses\; millions of individuals\, businesses and communities have embraced it nationwide!  It is celebrated annually on the Saturday after Thanksgiving.  This year's date is November 28\, 2020.  As a business\, we invite you to participate by actively promoting Small Business Saturday in your business.  As a neighbor\, we ask you to just go out and shop!\n\n\n\nBusinesses:\n\nLearn more about this effort and download your free marketing materials at http://www.smallbusinesssaturday.com.  Let us know if you want to be included in the Shopper's Passport on this day!\n\n\n\nWhether you are a small business owner or a consumer\, please join the LMRCA and participate in Small Business Saturday!
X-ALT-DESC;FMTTYPE=text/html:<strong><span style="font-family:tahoma\,arial\,helvetica\,sans-serif\;"><span style="font-size:12pt\;">JOIN THE MOVEMENT IN THE PLACE YOU CALL HOME!<br />\n<br />\nWhen you shop at local small businesses\, you support all the things that make our community great.&nbsp\; The money you spend here\, stays here.&nbsp\; Right here in this place you call your neighborhood.</span></span></strong><br />\n<br />\n<span style="font-family:tahoma\,arial\,helvetica\,sans-serif\;"><span style="font-size:12pt\;"><em>Small Business Saturday is a movement encouraging people to shop at small businesses\; millions of individuals\, businesses and communities have embraced it nationwide!&nbsp\; It is celebrated annually on the Saturday after Thanksgiving.&nbsp\; This year&#39\;s date is November 28\, 2020.&nbsp\; As a business\, we invite you to participate by actively promoting Small Business Saturday in your business.&nbsp\; As a neighbor\, we ask you to just go out and shop!</em></span></span><br />\n<br />\n<span style="font-size:12pt\;"><strong><u>Businesses:</u><br />\nLearn more about this effort and download your free marketing materials at <a href="http://www.smallbusinesssaturday.com" target="_self">http://www.smallbusinesssaturday.com</a>.&nbsp\; Let us know if you want to be included in the Shopper&#39\;s Passport on this day!<br />\n<br />\nWhether you are a small business owner or a consumer\, please join the LMRCA and participate in Small Business Saturday!<br />\n<br />\n<br />\n&nbsp\;</strong></span>
LOCATION:Small Businesses
UID:e.260.6818
SEQUENCE:3
DTSTAMP:20260424T051754Z
URL:https://business.lovelandchamber.org/events/details/small-business-saturday-2020-6818
END:VEVENT

END:VCALENDAR
