BEGIN:VCALENDAR
VERSION:2.0
PRODID:-//ChamberMaster//Event Calendar 2.0//EN
METHOD:PUBLISH
X-PUBLISHED-TTL:P3D
REFRESH-INTERVAL:P3D
CALSCALE:GREGORIAN
BEGIN:VEVENT
DTSTART:20210128T160000Z
DTEND:20210128T170000Z
X-MICROSOFT-CDO-ALLDAYEVENT:FALSE
SUMMARY:State of the Region Update 2021
DESCRIPTION:Join us for the State of the Region 2021 Address! Hear from city and township leaders: David Kennedy (Loveland City Manager)\, Jeff Wright (Miami Township Administrator)\, and Kim Lapensee (Symmes Township Administrator) on their 2020 plans.  Learn more about your community\, economic development plans and stay informed for the upcoming year!\n\n\n\nLogin to join us!\n\n---\nTopic: State of the Region 2021\n\nTime: Jan 28\, 2021 11:00 AM Eastern Time (US and Canada)\n\n \n\nJoin Zoom Meeting\n\nhttps://us02web.zoom.us/j/84246095537?pwd=N3JtSVRrQnlIWDIwakUwYjMzNzRCZz09\n\n \n\nMeeting ID: 842 4609 5537\n\nPasscode: 358681\n----
X-ALT-DESC;FMTTYPE=text/html:<br />\n<br />\nJoin us for the State of the Region 2021 Address! Hear from city and township leaders: David Kennedy (Loveland City Manager)\, Jeff Wright (Miami Township Administrator)\, and Kim Lapensee (Symmes Township Administrator) on their 2020 plans.&nbsp\; Learn more about your community\, economic development plans and stay informed for the upcoming year!<br />\n<br />\nLogin to join us!<br />\n---\n<div>Topic: State of the Region 2021</div>\n\n<div>Time: Jan 28\, 2021 11:00 AM Eastern Time (US and Canada)</div>\n\n<div>&nbsp\;</div>\n\n<div>Join Zoom Meeting</div>\n\n<div>https://us02web.zoom.us/j/84246095537?pwd=N3JtSVRrQnlIWDIwakUwYjMzNzRCZz09</div>\n\n<div>&nbsp\;</div>\n\n<div>Meeting ID: 842 4609 5537</div>\n\n<div>Passcode: 358681</div>\n----
LOCATION:Virtual Event: Zoom link to be sent week of event.
UID:e.260.6823
SEQUENCE:3
DTSTAMP:20260424T020301Z
URL:https://business.lovelandchamber.org/events/details/state-of-the-region-update-2021-6823
END:VEVENT

END:VCALENDAR
