BEGIN:VCALENDAR
VERSION:2.0
PRODID:-//ChamberMaster//Event Calendar 2.0//EN
METHOD:PUBLISH
X-PUBLISHED-TTL:P3D
REFRESH-INTERVAL:P3D
CALSCALE:GREGORIAN
BEGIN:VEVENT
DTSTART:20230202T163000Z
DTEND:20230202T183000Z
X-MICROSOFT-CDO-ALLDAYEVENT:FALSE
SUMMARY:State of the Region Update 2023
DESCRIPTION:Join us for the State of the Region 2023 Address! Hear from city and township leaders: David Kennedy (Loveland City Manager)\, Jeff Wright (Miami Township Administrator)\, and Kim Lapensee (Symmes Township Administrator) on their 2023 plans.  Learn more about your community\, economic development plans and stay informed for the upcoming year!
X-ALT-DESC;FMTTYPE=text/html:<br />\nJoin us for the State of the Region 2023 Address! Hear from city and township leaders: David Kennedy (Loveland City Manager)\, Jeff Wright (Miami Township Administrator)\, and Kim Lapensee (Symmes Township Administrator) on their 2023 plans.&nbsp\; Learn more about your community\, economic development plans and stay informed for the upcoming year!<br />\n<br />\n&nbsp\;
LOCATION:HCC 1007 Cottonwood Dr.
UID:e.260.6894
SEQUENCE:3
DTSTAMP:20260422T200729Z
URL:https://business.lovelandchamber.org/events/details/state-of-the-region-update-2023-6894
END:VEVENT

END:VCALENDAR
