BEGIN:VCALENDAR
VERSION:2.0
PRODID:-//ChamberMaster//Event Calendar 2.0//EN
METHOD:PUBLISH
X-PUBLISHED-TTL:P3D
REFRESH-INTERVAL:P3D
CALSCALE:GREGORIAN
BEGIN:VEVENT
DTSTART:20210316T160000Z
DTEND:20210316T170000Z
X-MICROSOFT-CDO-ALLDAYEVENT:FALSE
SUMMARY:Virtual Lunch & Learn--LinkedIN: What are you Waiting For?
DESCRIPTION:LinkedIn: What Are You Waiting For?\n\n\n\nJoin us virtually as we dive into LinkedIn! Grab your lunch (brown bag or take out!) for this virtual event.\n\n\n\nDeanna Russo outlines why LinkedIn is a powerful professional networking platform\, what it is\, and what it is not. She'll also add a couple takeaways for the people in the audience on shaping up their own LinkedIn profile.\n\n\n\nAbout Deanna Russo\, Leverage Up\n\n\n\nAuthentic\, genuine\, and straight forward.\n\n\n\nThose are three words that best describe me. I started Leverage Up to share my authentic advice with people who are looking to grow their network on LinkedIn. I customize my approach with my clients. Everyone is at a different place in their LinkedIn journey. So what works for the goose will not work for the gander. Some people have 300 connections and are looking for their next opportunity. Others have 1500 connections and want to use LinkedIn to jumpstart or boost their business. \n\n\n\nRegardless of your end goal\, Leverage Up will work with you to maximize the benefits of this platform in the fastest way possible.\n\n\n\nMy goal is to share my knowledge. I grew my LinkedIn following 25x connections in just 18 months. I started Leverage Up to pass on my knowledge and help others achieve all the benefits that I learned independently.
X-ALT-DESC;FMTTYPE=text/html:<div class="x_gmail_default" style="font-family:tahoma\,sans-serif">&nbsp\;</div>\n\n<div class="x_gmail_default" style="font-family:tahoma\,sans-serif"><br />\n<span style="font-size:18px\;"><em>LinkedIn: What Are You Waiting For?</em></span></div>\n\n<div class="x_gmail_default" style="font-family:tahoma\,sans-serif"><br />\n<span style="font-size:14px\;">Join us virtually as we dive into LinkedIn! Grab your lunch (brown bag or take out!) for this virtual event.<br style="box-sizing:content-box\; clear:none\; color:rgb(68\,68\,68)\; direction:inherit\; display:inline\; empty-cells:show\; float:none\; font-variant-numeric:inherit\; font-variant-east-asian:inherit\; font-stretch:inherit\; font-size:14px\; font-family:Arial\,Helvetica\,sans-serif\; line-height:inherit\; margin:0px\; max-height:none\; max-width:none\; min-height:initial\; min-width:initial\; opacity:1\; overflow:visible\; padding:0px\; table-layout:auto\; text-overflow:clip\; vertical-align:baseline\; word-break:inherit\; background-image:none\; background-position:initial\; background-size:initial\; background-repeat:initial\; background-origin:initial\; background-clip:initial\; border:none\; border-collapse:separate\; border-radius:0px\; height:auto\; width:auto" />\n<br style="box-sizing:content-box\; clear:none\; color:rgb(68\,68\,68)\; direction:inherit\; display:inline\; empty-cells:show\; float:none\; font-variant-numeric:inherit\; font-variant-east-asian:inherit\; font-stretch:inherit\; font-size:14px\; font-family:Arial\,Helvetica\,sans-serif\; line-height:inherit\; margin:0px\; max-height:none\; max-width:none\; min-height:initial\; min-width:initial\; opacity:1\; overflow:visible\; padding:0px\; table-layout:auto\; text-overflow:clip\; vertical-align:baseline\; word-break:inherit\; background-image:none\; background-position:initial\; background-size:initial\; background-repeat:initial\; background-origin:initial\; background-clip:initial\; border:none\; border-collapse:separate\; border-radius:0px\; height:auto\; width:auto" />\n<a data-auth="NotApplicable" href="https://www.linkedin.com/in/deannarusso1/" rel="noopener noreferrer" style="box-sizing:content-box\; text-decoration-line:none\; color:rgb(34\,72\,132)\; clear:none\; direction:inherit\; display:inline\; empty-cells:show\; float:none\; font-variant-numeric:inherit\; font-variant-east-asian:inherit\; font-stretch:inherit\; font-size:14px\; font-family:Arial\,Helvetica\,sans-serif\; line-height:inherit\; margin:0px\; max-height:none\; max-width:none\; min-height:initial\; min-width:initial\; opacity:1\; overflow:visible\; padding:0px\; table-layout:auto\; text-overflow:clip\; vertical-align:baseline\; word-break:inherit\; background-image:none\; background-position:initial\; background-size:initial\; background-repeat:initial\; background-origin:initial\; background-clip:initial\; border:none\; border-collapse:separate\; border-radius:0px\; height:auto\; width:auto" target="_blank"><span class="markvbc2decxd" data-markjs="true" data-ogab="" data-ogac="" data-ogsb="" data-ogsc="">Deanna</span> Russo</a><span style="color: rgb(68\, 68\, 68)\; font-family: Arial\, Helvetica\, sans-serif\;">&nbsp\;outlines why LinkedIn is a powerful professional networking platform\, what it is\, and what it is not. She&#39\;ll also add a couple takeaways for the people in the audience on shaping up their own LinkedIn profile.</span></span><br style="box-sizing:content-box\; clear:none\; color:rgb(68\,68\,68)\; direction:inherit\; display:inline\; empty-cells:show\; float:none\; font-variant-numeric:inherit\; font-variant-east-asian:inherit\; font-stretch:inherit\; font-size:14px\; font-family:Arial\,Helvetica\,sans-serif\; line-height:inherit\; margin:0px\; max-height:none\; max-width:none\; min-height:initial\; min-width:initial\; opacity:1\; overflow:visible\; padding:0px\; table-layout:auto\; text-overflow:clip\; vertical-align:baseline\; word-break:inherit\; background-image:none\; background-position:initial\; background-size:initial\; background-repeat:initial\; background-origin:initial\; background-clip:initial\; border:none\; border-collapse:separate\; border-radius:0px\; height:auto\; width:auto" />\n<br style="box-sizing:content-box\; clear:none\; color:rgb(68\,68\,68)\; direction:inherit\; display:inline\; empty-cells:show\; float:none\; font-variant-numeric:inherit\; font-variant-east-asian:inherit\; font-stretch:inherit\; font-size:14px\; font-family:Arial\,Helvetica\,sans-serif\; line-height:inherit\; margin:0px\; max-height:none\; max-width:none\; min-height:initial\; min-width:initial\; opacity:1\; overflow:visible\; padding:0px\; table-layout:auto\; text-overflow:clip\; vertical-align:baseline\; word-break:inherit\; background-image:none\; background-position:initial\; background-size:initial\; background-repeat:initial\; background-origin:initial\; background-clip:initial\; border:none\; border-collapse:separate\; border-radius:0px\; height:auto\; width:auto" />\n<em><span style="color:rgb(68\,68\,68)\; font-family:Arial\,Helvetica\,sans-serif\; font-size:14px">About <span class="markvbc2decxd" data-markjs="true" data-ogab="" data-ogac="" data-ogsb="" data-ogsc="" style="">Deanna</span> Russo\, Leverage Up</span><br style="box-sizing:content-box\; clear:none\; color:rgb(68\,68\,68)\; direction:inherit\; display:inline\; empty-cells:show\; float:none\; font-variant-numeric:inherit\; font-variant-east-asian:inherit\; font-stretch:inherit\; font-size:14px\; font-family:Arial\,Helvetica\,sans-serif\; line-height:inherit\; margin:0px\; max-height:none\; max-width:none\; min-height:initial\; min-width:initial\; opacity:1\; overflow:visible\; padding:0px\; table-layout:auto\; text-overflow:clip\; vertical-align:baseline\; word-break:inherit\; background-image:none\; background-position:initial\; background-size:initial\; background-repeat:initial\; background-origin:initial\; background-clip:initial\; border:none\; border-collapse:separate\; border-radius:0px\; height:auto\; width:auto" />\n<br style="box-sizing:content-box\; clear:none\; color:rgb(68\,68\,68)\; direction:inherit\; display:inline\; empty-cells:show\; float:none\; font-variant-numeric:inherit\; font-variant-east-asian:inherit\; font-stretch:inherit\; font-size:14px\; font-family:Arial\,Helvetica\,sans-serif\; line-height:inherit\; margin:0px\; max-height:none\; max-width:none\; min-height:initial\; min-width:initial\; opacity:1\; overflow:visible\; padding:0px\; table-layout:auto\; text-overflow:clip\; vertical-align:baseline\; word-break:inherit\; background-image:none\; background-position:initial\; background-size:initial\; background-repeat:initial\; background-origin:initial\; background-clip:initial\; border:none\; border-collapse:separate\; border-radius:0px\; height:auto\; width:auto" />\n<span style="color:rgb(68\,68\,68)\; font-family:Arial\,Helvetica\,sans-serif\; font-size:14px">Authentic\, genuine\, and straight forward.</span><br style="box-sizing:content-box\; clear:none\; color:rgb(68\,68\,68)\; direction:inherit\; display:inline\; empty-cells:show\; float:none\; font-variant-numeric:inherit\; font-variant-east-asian:inherit\; font-stretch:inherit\; font-size:14px\; font-family:Arial\,Helvetica\,sans-serif\; line-height:inherit\; margin:0px\; max-height:none\; max-width:none\; min-height:initial\; min-width:initial\; opacity:1\; overflow:visible\; padding:0px\; table-layout:auto\; text-overflow:clip\; vertical-align:baseline\; word-break:inherit\; background-image:none\; background-position:initial\; background-size:initial\; background-repeat:initial\; background-origin:initial\; background-clip:initial\; border:none\; border-collapse:separate\; border-radius:0px\; height:auto\; width:auto" />\n<br style="box-sizing:content-box\; clear:none\; color:rgb(68\,68\,68)\; direction:inherit\; display:inline\; empty-cells:show\; float:none\; font-variant-numeric:inherit\; font-variant-east-asian:inherit\; font-stretch:inherit\; font-size:14px\; font-family:Arial\,Helvetica\,sans-serif\; line-height:inherit\; margin:0px\; max-height:none\; max-width:none\; min-height:initial\; min-width:initial\; opacity:1\; overflow:visible\; padding:0px\; table-layout:auto\; text-overflow:clip\; vertical-align:baseline\; word-break:inherit\; background-image:none\; background-position:initial\; background-size:initial\; background-repeat:initial\; background-origin:initial\; background-clip:initial\; border:none\; border-collapse:separate\; border-radius:0px\; height:auto\; width:auto" />\n<span style="color:rgb(68\,68\,68)\; font-family:Arial\,Helvetica\,sans-serif\; font-size:14px">Those are three words that best describe me. I started&nbsp\;</span><a data-auth="NotApplicable" href="http://leverageupllc.com/" rel="noopener noreferrer" style="box-sizing:content-box\; text-decoration-line:none\; color:rgb(34\,72\,132)\; clear:none\; direction:inherit\; display:inline\; empty-cells:show\; float:none\; font-variant-numeric:inherit\; font-variant-east-asian:inherit\; font-stretch:inherit\; font-size:14px\; font-family:Arial\,Helvetica\,sans-serif\; line-height:inherit\; margin:0px\; max-height:none\; max-width:none\; min-height:initial\; min-width:initial\; opacity:1\; overflow:visible\; padding:0px\; table-layout:auto\; text-overflow:clip\; vertical-align:baseline\; word-break:inherit\; background-image:none\; background-position:initial\; background-size:initial\; background-repeat:initial\; background-origin:initial\; background-clip:initial\; border:none\; border-collapse:separate\; border-radius:0px\; height:auto\; width:auto" target="_blank">Leverage Up</a><span style="color:rgb(68\,68\,68)\; font-family:Arial\,Helvetica\,sans-serif\; font-size:14px">&nbsp\;to share my authentic advice with people who are looking to grow their network on LinkedIn. I customize my approach with my clients. Everyone is at a different place in their LinkedIn journey. So what works for the goose will not work for the gander. Some people have 300 connections and are looking for their next opportunity. Others have 1500 connections and want to use LinkedIn to jumpstart or boost their business.&nbsp\;</span><br style="box-sizing:content-box\; clear:none\; color:rgb(68\,68\,68)\; direction:inherit\; display:inline\; empty-cells:show\; float:none\; font-variant-numeric:inherit\; font-variant-east-asian:inherit\; font-stretch:inherit\; font-size:14px\; font-family:Arial\,Helvetica\,sans-serif\; line-height:inherit\; margin:0px\; max-height:none\; max-width:none\; min-height:initial\; min-width:initial\; opacity:1\; overflow:visible\; padding:0px\; table-layout:auto\; text-overflow:clip\; vertical-align:baseline\; word-break:inherit\; background-image:none\; background-position:initial\; background-size:initial\; background-repeat:initial\; background-origin:initial\; background-clip:initial\; border:none\; border-collapse:separate\; border-radius:0px\; height:auto\; width:auto" />\n<br style="box-sizing:content-box\; clear:none\; color:rgb(68\,68\,68)\; direction:inherit\; display:inline\; empty-cells:show\; float:none\; font-variant-numeric:inherit\; font-variant-east-asian:inherit\; font-stretch:inherit\; font-size:14px\; font-family:Arial\,Helvetica\,sans-serif\; line-height:inherit\; margin:0px\; max-height:none\; max-width:none\; min-height:initial\; min-width:initial\; opacity:1\; overflow:visible\; padding:0px\; table-layout:auto\; text-overflow:clip\; vertical-align:baseline\; word-break:inherit\; background-image:none\; background-position:initial\; background-size:initial\; background-repeat:initial\; background-origin:initial\; background-clip:initial\; border:none\; border-collapse:separate\; border-radius:0px\; height:auto\; width:auto" />\n<span style="color:rgb(68\,68\,68)\; font-family:Arial\,Helvetica\,sans-serif\; font-size:14px">Regardless of your end goal\, Leverage Up will work with you to maximize the benefits of this platform in the fastest way possible.</span><br style="box-sizing:content-box\; clear:none\; color:rgb(68\,68\,68)\; direction:inherit\; display:inline\; empty-cells:show\; float:none\; font-variant-numeric:inherit\; font-variant-east-asian:inherit\; font-stretch:inherit\; font-size:14px\; font-family:Arial\,Helvetica\,sans-serif\; line-height:inherit\; margin:0px\; max-height:none\; max-width:none\; min-height:initial\; min-width:initial\; opacity:1\; overflow:visible\; padding:0px\; table-layout:auto\; text-overflow:clip\; vertical-align:baseline\; word-break:inherit\; background-image:none\; background-position:initial\; background-size:initial\; background-repeat:initial\; background-origin:initial\; background-clip:initial\; border:none\; border-collapse:separate\; border-radius:0px\; height:auto\; width:auto" />\n<br style="box-sizing:content-box\; clear:none\; color:rgb(68\,68\,68)\; direction:inherit\; display:inline\; empty-cells:show\; float:none\; font-variant-numeric:inherit\; font-variant-east-asian:inherit\; font-stretch:inherit\; font-size:14px\; font-family:Arial\,Helvetica\,sans-serif\; line-height:inherit\; margin:0px\; max-height:none\; max-width:none\; min-height:initial\; min-width:initial\; opacity:1\; overflow:visible\; padding:0px\; table-layout:auto\; text-overflow:clip\; vertical-align:baseline\; word-break:inherit\; background-image:none\; background-position:initial\; background-size:initial\; background-repeat:initial\; background-origin:initial\; background-clip:initial\; border:none\; border-collapse:separate\; border-radius:0px\; height:auto\; width:auto" />\n<span style="color:rgb(68\,68\,68)\; font-family:Arial\,Helvetica\,sans-serif\; font-size:14px">My goal is to share my knowledge. I grew my LinkedIn following&nbsp\;</span><span style="color:rgb(68\,68\,68)\; font-family:Arial\,Helvetica\,sans-serif\; font-size:14px">25x connections in just 18 months. I started Leverage Up to pass on my knowledge and help others achieve all the benefits that I learned independently.</span></em></div>\n
LOCATION:Virtual: Link will be sent to registrants the week of the event.
UID:e.260.6835
SEQUENCE:3
DTSTAMP:20260423T234953Z
URL:https://business.lovelandchamber.org/events/details/virtual-lunch-learn-linkedin-what-are-you-waiting-for-6835
END:VEVENT

END:VCALENDAR
