BEGIN:VCALENDAR
VERSION:2.0
PRODID:-//ChamberMaster//Event Calendar 2.0//EN
METHOD:PUBLISH
X-PUBLISHED-TTL:P3D
REFRESH-INTERVAL:P3D
CALSCALE:GREGORIAN
BEGIN:VEVENT
DTSTART:20230126T163000Z
DTEND:20230126T183000Z
X-MICROSOFT-CDO-ALLDAYEVENT:FALSE
SUMMARY:What Google Can Do For Your Business
DESCRIPTION:Let's put our cities and businesses on the map!\n\n\n\nDid you know that 93% of people start their initial search for anything on a search engine? Did you know that Google holds 78% of the search engine market? Want to know how to take advantage of this?\nHave you Googled your business recently?\n\n \n\nGoogle My Business has rebranded to the Google Business Profile! While much remains the same for gaining online visibility\, some significant changes have happened. Join the Little Miami River Chamber Alliance with former Google City Ambassador\, Rusty Allison for a special Lunch & Learn about what you might have missed with the new Google Business Profile listings!\n\n \n\nIt's fun\, informative and insightful!
X-ALT-DESC;FMTTYPE=text/html:<br />\n<br />\n<span style="font-size:14px\;">Let&#39\;s put our cities and businesses on the map!<br />\n<br />\nDid you know that 93% of people start their initial search for anything on a search engine? Did you know that Google holds 78% of the search engine market? Want to know how to take advantage of this?</span>\n<p style="margin: 0px\; padding: 0px\; color: rgb(45\, 44\, 46)\; font-family: Arial\, Verdana\, Helvetica\, sans-serif\; font-size: 12px\; font-style: normal\; font-variant-ligatures: normal\; font-variant-caps: normal\; font-weight: 400\; letter-spacing: normal\; orphans: 2\; text-align: left\; text-indent: 0px\; text-transform: none\; white-space: pre-wrap\; widows: 2\; word-spacing: 0px\; -webkit-text-stroke-width: 0px\; background-color: rgb(255\, 255\, 255)\; text-decoration-thickness: initial\; text-decoration-style: initial\; text-decoration-color: initial\;"><span style="font-size:14px\;">Have you Googled your business recently?</span></p>\n\n<p style="margin: 0px\; padding: 0px\; color: rgb(45\, 44\, 46)\; font-family: Arial\, Verdana\, Helvetica\, sans-serif\; font-size: 12px\; font-style: normal\; font-variant-ligatures: normal\; font-variant-caps: normal\; font-weight: 400\; letter-spacing: normal\; orphans: 2\; text-align: left\; text-indent: 0px\; text-transform: none\; white-space: pre-wrap\; widows: 2\; word-spacing: 0px\; -webkit-text-stroke-width: 0px\; background-color: rgb(255\, 255\, 255)\; text-decoration-thickness: initial\; text-decoration-style: initial\; text-decoration-color: initial\;">&nbsp\;</p>\n\n<p style="margin: 0px\; padding: 0px\; color: rgb(45\, 44\, 46)\; font-family: Arial\, Verdana\, Helvetica\, sans-serif\; font-size: 12px\; font-style: normal\; font-variant-ligatures: normal\; font-variant-caps: normal\; font-weight: 400\; letter-spacing: normal\; orphans: 2\; text-align: left\; text-indent: 0px\; text-transform: none\; white-space: pre-wrap\; widows: 2\; word-spacing: 0px\; -webkit-text-stroke-width: 0px\; background-color: rgb(255\, 255\, 255)\; text-decoration-thickness: initial\; text-decoration-style: initial\; text-decoration-color: initial\;"><span style="font-size:14px\;"><span style="font-family: Arial\, Verdana\, Helvetica\, sans-serif\;">Google My Business has rebranded to the Google Business Profile! While much remains the same for gaining online visibility\, some significant changes have happened. Join the Little Miami River Chamber Alliance with former Google City Ambassador\, Rusty Allison for a special Lunch &amp\; Learn about what you might have missed with the new Google Business Profile listings!</span></span></p>\n\n<p style="margin: 0px\; padding: 0px\; color: rgb(45\, 44\, 46)\; font-family: Arial\, Verdana\, Helvetica\, sans-serif\; font-size: 12px\; font-style: normal\; font-variant-ligatures: normal\; font-variant-caps: normal\; font-weight: 400\; letter-spacing: normal\; orphans: 2\; text-align: left\; text-indent: 0px\; text-transform: none\; white-space: pre-wrap\; widows: 2\; word-spacing: 0px\; -webkit-text-stroke-width: 0px\; background-color: rgb(255\, 255\, 255)\; text-decoration-thickness: initial\; text-decoration-style: initial\; text-decoration-color: initial\;">&nbsp\;</p>\n\n<p style="margin: 0px\; padding: 0px\; color: rgb(45\, 44\, 46)\; font-family: Arial\, Verdana\, Helvetica\, sans-serif\; font-size: 12px\; font-style: normal\; font-variant-ligatures: normal\; font-variant-caps: normal\; font-weight: 400\; letter-spacing: normal\; orphans: 2\; text-align: left\; text-indent: 0px\; text-transform: none\; white-space: pre-wrap\; widows: 2\; word-spacing: 0px\; -webkit-text-stroke-width: 0px\; background-color: rgb(255\, 255\, 255)\; text-decoration-thickness: initial\; text-decoration-style: initial\; text-decoration-color: initial\;"><span style="font-size:14px\;"><span style="font-family: Arial\, Verdana\, Helvetica\, sans-serif\;">It&#39\;s fun\, informative and insightful! </span></span></p>\n<br />\n&nbsp\;
LOCATION:The 1859 111 S. 3rd St. Loveland\, OH
UID:e.260.6895
SEQUENCE:3
DTSTAMP:20260424T080802Z
URL:https://business.lovelandchamber.org/events/details/what-google-can-do-for-your-business-6895
END:VEVENT

END:VCALENDAR
