BEGIN:VCALENDAR
VERSION:2.0
PRODID:-//ChamberMaster//Event Calendar 2.0//EN
METHOD:PUBLISH
X-PUBLISHED-TTL:P3D
REFRESH-INTERVAL:P3D
CALSCALE:GREGORIAN
BEGIN:VEVENT
DTSTART:20201105T223000Z
DTEND:20201106T003000Z
X-MICROSOFT-CDO-ALLDAYEVENT:FALSE
SUMMARY:Young Professionals Non-Profit Happy Hour
DESCRIPTION:Please note the date of this event has been changed to Nov 5 due to rain!\n\n\n\nJoin us for a non-profit happy hour featuring Pink Ribbon Girls! Meet other YP in the greater Loveland area. Build your network and learn more about this wonderful non-profit who is making a difference for women who have been affected by cancer.\n\n\n\nPlease note this event will be socially-distant and outdoor.\n\n\n\nWhat is LYP? This group will be platform for our younger members to build relationships\, develop professionally\, and help impact our community.\nLoveland Young Professionals (LYP)  will provide opportunities in: Networking\, Educational and Professional Development\, Volunteer and Community Outreach. We will strive to cultivate future leaders\, work to keep our young professionals in the area\, and foster economic growth in the area.
X-ALT-DESC;FMTTYPE=text/html:<strong>Please note the date of this event has been changed to Nov 5 due to rain!</strong><br />\n<br />\nJoin us for a non-profit happy hour featuring Pink Ribbon Girls! Meet other YP in the greater Loveland area. Build your network and learn more about this wonderful non-profit who is making a difference for women who have been affected by cancer.<br />\n<br />\nPlease note this event will be socially-distant and outdoor.<br />\n<br />\n<em>What is LYP? This group will be platform for our younger members to build relationships\, develop professionally\, and help impact our community.</em>\n<p><em>Loveland Young Professionals (LYP)&nbsp\; will provide opportunities in: Networking\, Educational and Professional Development\, Volunteer and Community Outreach. We will strive to cultivate future leaders\, work to keep our young professionals in the area\, and foster economic growth in the area.</em></p>\n<br />\n&nbsp\;
LOCATION:Valley Vineyards 2276 US-22 &\, OH-3\, Morrow\, OH 45152
UID:e.260.6819
SEQUENCE:3
DTSTAMP:20260424T051942Z
URL:https://business.lovelandchamber.org/events/details/young-professionals-non-profit-happy-hour-6819
END:VEVENT

END:VCALENDAR
